BEGIN:VCALENDAR
VERSION:2.0
PRODID:-//Pigeon Forge Chamber of Commerce - ECPv6.11.2//NONSGML v1.0//EN
CALSCALE:GREGORIAN
METHOD:PUBLISH
X-WR-CALNAME:Pigeon Forge Chamber of Commerce
X-ORIGINAL-URL:https://pigeonforgechamber.com
X-WR-CALDESC:Events for Pigeon Forge Chamber of Commerce
REFRESH-INTERVAL;VALUE=DURATION:PT1H
X-Robots-Tag:noindex
X-PUBLISHED-TTL:PT1H
BEGIN:VTIMEZONE
TZID:America/New_York
BEGIN:DAYLIGHT
TZOFFSETFROM:-0500
TZOFFSETTO:-0400
TZNAME:EDT
DTSTART:20250309T070000
END:DAYLIGHT
BEGIN:STANDARD
TZOFFSETFROM:-0400
TZOFFSETTO:-0500
TZNAME:EST
DTSTART:20251102T060000
END:STANDARD
BEGIN:DAYLIGHT
TZOFFSETFROM:-0500
TZOFFSETTO:-0400
TZNAME:EDT
DTSTART:20260308T070000
END:DAYLIGHT
BEGIN:STANDARD
TZOFFSETFROM:-0400
TZOFFSETTO:-0500
TZNAME:EST
DTSTART:20261101T060000
END:STANDARD
END:VTIMEZONE
BEGIN:VEVENT
DTSTART;TZID=America/New_York:20251231T160000
DTEND;TZID=America/New_York:20260101T010000
DTSTAMP:20260424T143331
CREATED:20251218T141724Z
LAST-MODIFIED:20251218T141724Z
UID:145725-1767196800-1767229200@pigeonforgechamber.com
SUMMARY:Celebrate New Year's Eve at Dave & Buster's
DESCRIPTION:Ring in the New Year with games\, food\, drinks\, and nonstop fun at Dave & Buster’s Pigeon Forge! This New Year’s Eve celebration is the perfect place to celebrate with friends\, family\, or a group\, featuring a lively atmosphere\, interactive games\, and plenty of ways to toast to the year ahead. \nEnjoy arcade favorites\, chef-crafted menu options\, and refreshing beverages as you count down to midnight in one of Pigeon Forge’s most energetic entertainment spots. Whether you’re looking for a casual night out or an exciting way to celebrate\, Dave & Buster’s offers a fun-filled New Year’s Eve experience for all. \nLearn more – https://www.daveandbusters.com/us/en/holidaydeals/new-years-at-dave-and-busters/
URL:https://pigeonforgechamber.com/event/celebrate-new-years-eve-at-dave-busters/
LOCATION:Dave & Busters\, 1554 Parkway\, Sevierville\, TN\, 37862\, United States
ATTACH;FMTTYPE=image/png:https://pigeonforgechamber.com/wp-content/uploads/2025/12/Screenshot-2025-12-18-at-9.17.56-AM.png
END:VEVENT
BEGIN:VEVENT
DTSTART;TZID=America/New_York:20251031T160000
DTEND;TZID=America/New_York:20251031T200000
DTSTAMP:20260424T143331
CREATED:20251027T160632Z
LAST-MODIFIED:20251027T160632Z
UID:145034-1761926400-1761940800@pigeonforgechamber.com
SUMMARY:Dave & Buster's Boo Bash
DESCRIPTION:Bring the whole family for a spooktacular time at Dave & Buster’s! Enjoy festive crafts\, activities\, and games perfect for all ages. Enter the costume contest for your chance to win free game play for a year\, and enjoy unlimited simulator games throughout the event. \nThe first 100 ticket holders will receive a special souvenir cup\, so grab your tickets early and celebrate Halloween in a fun\, safe\, and indoor environment! \nBuy Tickets Now – https://www.prekindle.com/event/37541-dave-and-boo-sters-boo-bash-sevierville
URL:https://pigeonforgechamber.com/event/dave-busters-boo-bash/
LOCATION:Dave & Busters\, 1554 Parkway\, Sevierville\, TN\, 37862\, United States
ATTACH;FMTTYPE=image/png:https://pigeonforgechamber.com/wp-content/uploads/2025/10/2852852648703725625-e1761581174988.png
END:VEVENT
END:VCALENDAR