BEGIN:VCALENDAR
VERSION:2.0
PRODID:-//Pigeon Forge Chamber of Commerce - ECPv6.11.2//NONSGML v1.0//EN
CALSCALE:GREGORIAN
METHOD:PUBLISH
X-WR-CALNAME:Pigeon Forge Chamber of Commerce
X-ORIGINAL-URL:https://pigeonforgechamber.com
X-WR-CALDESC:Events for Pigeon Forge Chamber of Commerce
REFRESH-INTERVAL;VALUE=DURATION:PT1H
X-Robots-Tag:noindex
X-PUBLISHED-TTL:PT1H
BEGIN:VTIMEZONE
TZID:America/New_York
BEGIN:DAYLIGHT
TZOFFSETFROM:-0500
TZOFFSETTO:-0400
TZNAME:EDT
DTSTART:20240310T070000
END:DAYLIGHT
BEGIN:STANDARD
TZOFFSETFROM:-0400
TZOFFSETTO:-0500
TZNAME:EST
DTSTART:20241103T060000
END:STANDARD
BEGIN:DAYLIGHT
TZOFFSETFROM:-0500
TZOFFSETTO:-0400
TZNAME:EDT
DTSTART:20250309T070000
END:DAYLIGHT
BEGIN:STANDARD
TZOFFSETFROM:-0400
TZOFFSETTO:-0500
TZNAME:EST
DTSTART:20251102T060000
END:STANDARD
END:VTIMEZONE
BEGIN:VEVENT
DTSTART;VALUE=DATE:20251206
DTEND;VALUE=DATE:20251207
DTSTAMP:20260424T133618
CREATED:20251103T165008Z
LAST-MODIFIED:20251103T165008Z
UID:145134-1764979200-1765065599@pigeonforgechamber.com
SUMMARY:Holiday Marketplace at Arrowmont
DESCRIPTION:Kick off the holiday season with a day full of festive fun at Arrowmont! They are bringing back their Holiday Family Workshops and Marketplace for the second year\, offering something for the whole family to enjoy. \nMorning Family Workshop (9:00 AM – 12:00 PM)Start the day with an intergenerational crafting experience for ages 5 and up. Enjoy hands-on activities\, create something special together\, and savor a delicious lunch before heading into our afternoon marketplace. \nHoliday Marketplace (2:00 PM – 6:00 PM)Explore a wide array of unique\, handmade gifts in our arts & crafts marketplace. Sip on a warm drink\, enjoy a sweet treat\, and shop from talented makers specializing in pottery\, fiber arts\, metals\, textiles\, candles\, and more. The Marketplace is free and open to the public. \nFeatured Makers: \n\n\nJillian Mae Seversky – Pottery \n\n\nKelly Sullivan – Fibers & 2D work (in-studio demos!) \n\n\nEvelyn Kline – Metals \n\n\nAmy Overbeck – Candles \n\n\nDebbie Becker – Soaps \n\n\nJean Kranzle – Pottery & Ceramics \n\n\nNikki and Mitch Jones – Wood \n\n\nChelsea White-Hoglen – Literature \n\n\nChrista Schoenbrodt – Block Printed Fabrics \n\n\nBrigid Oesterling – Jewelry \n\n\nDeb Davis – Journals\, Boxes\, Candles \n\n\nRoberta Bell – Textile-focused Mixed Media \n\n\nAlison Houston – Fiber Art \n\n\nMarret Metzger – Ceramics \n\n\nCaleb Houston – 2D Prints \n\n\nGianna Chavarria – Crochet Items \n\n\nBuie Hancock – Ceramics \n\n\nRebecca Smedley – Jellies\, Sauces\, Brooms\, & Kitchen Items \n\n\nCeleste Rudd – 2D Prints \n\n\nTerumi & Ian Watson – Plants \n\n\nBring your family\, discover something new\, and celebrate the season with creativity\, community\, and holiday cheer.
URL:https://pigeonforgechamber.com/event/holiday-marketplace-at-arrowmont/
LOCATION:Arrowmont School of Arts & Crafts\, 556 Parkway\, Gatlinburg\, TN\, 37738\, United States
ATTACH;FMTTYPE=image/png:https://pigeonforgechamber.com/wp-content/uploads/2025/11/e81ba3e9-b95d-df46-ef50-28deb4097ad8.png
END:VEVENT
BEGIN:VEVENT
DTSTART;VALUE=DATE:20251101
DTEND;VALUE=DATE:20251221
DTSTAMP:20260424T133618
CREATED:20251103T165902Z
LAST-MODIFIED:20251103T165902Z
UID:145136-1761955200-1766275199@pigeonforgechamber.com
SUMMARY:A Woven History: Frances Fox Through the Decades Exhibition at Arrowmont
DESCRIPTION:Frances Fox: A Retrospective Weaving Exhibition \nJoin us in celebrating the remarkable life and legacy of Frances Fox\, a cherished member of the Arrowmont community. This special retrospective exhibition honors her contributions to the Gatlinburg arts scene\, her dedication to a family tradition of craft\, and the vibrant spirit she brought to our school. \nExplore a curated collection of her weaving works\, reflecting a lifetime of creativity\, passion\, and influence on the craft community. This exhibition is a tribute to Frances’s enduring impact and a chance to connect with the beauty of her artistry. \n\n\nReception/Special Event: November 20th \n\n\nTime: 4:30-7:00PM\, Frances to speak at 6:00PM in the Library \n\n\nWhere: Geoffrey A. Wolpert Gallery on Arrowmont’s Gatlinburg campus
URL:https://pigeonforgechamber.com/event/a-woven-history-frances-fox-through-the-decades-exhibition-at-arrowmont/
LOCATION:Arrowmont School of Arts & Crafts\, 556 Parkway\, Gatlinburg\, TN\, 37738\, United States
ATTACH;FMTTYPE=image/png:https://pigeonforgechamber.com/wp-content/uploads/2025/11/a7daa9be-2619-9e89-6bc3-2ca85a927366.png
END:VEVENT
BEGIN:VEVENT
DTSTART;VALUE=DATE:20250401
DTEND;VALUE=DATE:20250402
DTSTAMP:20260424T133618
CREATED:20250211T192827Z
LAST-MODIFIED:20250211T192827Z
UID:143475-1743465600-1743551999@pigeonforgechamber.com
SUMMARY:Family Arts & Crafts Workshops
DESCRIPTION:Fun for the Whole Family! \nBring the whole crew to Arrowmont School of Arts and Crafts for exciting family workshops (ages 5+) where you can learn a new craft in just 3 hours! With multiple days to choose from—including during peak Spring Break in March and April—there’s plenty of time to dive into creativity. \nExplore a wide range of hands-on activities\, including LEGO printmaking\, watercolor painting\, clay crafting\, birdhouse building\, bead art\, origami\, and so much more! It’s the perfect way to make lasting memories while discovering new talents together!
URL:https://pigeonforgechamber.com/event/family-arts-crafts-workshops/2025-04-01/
LOCATION:Arrowmont School of Arts & Crafts\, 556 Parkway\, Gatlinburg\, TN\, 37738\, United States
CATEGORIES:Arts
ATTACH;FMTTYPE=image/jpeg:https://pigeonforgechamber.com/wp-content/uploads/2024/12/Arts-Crafts-2.jpg
END:VEVENT
BEGIN:VEVENT
DTSTART;VALUE=DATE:20250331
DTEND;VALUE=DATE:20250401
DTSTAMP:20260424T133618
CREATED:20250211T192827Z
LAST-MODIFIED:20250211T192827Z
UID:143474-1743379200-1743465599@pigeonforgechamber.com
SUMMARY:Family Arts & Crafts Workshops
DESCRIPTION:Fun for the Whole Family! \nBring the whole crew to Arrowmont School of Arts and Crafts for exciting family workshops (ages 5+) where you can learn a new craft in just 3 hours! With multiple days to choose from—including during peak Spring Break in March and April—there’s plenty of time to dive into creativity. \nExplore a wide range of hands-on activities\, including LEGO printmaking\, watercolor painting\, clay crafting\, birdhouse building\, bead art\, origami\, and so much more! It’s the perfect way to make lasting memories while discovering new talents together!
URL:https://pigeonforgechamber.com/event/family-arts-crafts-workshops/2025-03-31/
LOCATION:Arrowmont School of Arts & Crafts\, 556 Parkway\, Gatlinburg\, TN\, 37738\, United States
CATEGORIES:Arts
ATTACH;FMTTYPE=image/jpeg:https://pigeonforgechamber.com/wp-content/uploads/2024/12/Arts-Crafts-2.jpg
END:VEVENT
BEGIN:VEVENT
DTSTART;VALUE=DATE:20250322
DTEND;VALUE=DATE:20250323
DTSTAMP:20260424T133618
CREATED:20250211T192827Z
LAST-MODIFIED:20250211T192827Z
UID:143473-1742601600-1742687999@pigeonforgechamber.com
SUMMARY:Family Arts & Crafts Workshops
DESCRIPTION:Fun for the Whole Family! \nBring the whole crew to Arrowmont School of Arts and Crafts for exciting family workshops (ages 5+) where you can learn a new craft in just 3 hours! With multiple days to choose from—including during peak Spring Break in March and April—there’s plenty of time to dive into creativity. \nExplore a wide range of hands-on activities\, including LEGO printmaking\, watercolor painting\, clay crafting\, birdhouse building\, bead art\, origami\, and so much more! It’s the perfect way to make lasting memories while discovering new talents together!
URL:https://pigeonforgechamber.com/event/family-arts-crafts-workshops/2025-03-22/
LOCATION:Arrowmont School of Arts & Crafts\, 556 Parkway\, Gatlinburg\, TN\, 37738\, United States
CATEGORIES:Arts
ATTACH;FMTTYPE=image/jpeg:https://pigeonforgechamber.com/wp-content/uploads/2024/12/Arts-Crafts-2.jpg
END:VEVENT
BEGIN:VEVENT
DTSTART;VALUE=DATE:20250318
DTEND;VALUE=DATE:20250319
DTSTAMP:20260424T133618
CREATED:20250211T192827Z
LAST-MODIFIED:20250211T192827Z
UID:143464-1742256000-1742342399@pigeonforgechamber.com
SUMMARY:Family Arts & Crafts Workshops
DESCRIPTION:Fun for the Whole Family! \nBring the whole crew to Arrowmont School of Arts and Crafts for exciting family workshops (ages 5+) where you can learn a new craft in just 3 hours! With multiple days to choose from—including during peak Spring Break in March and April—there’s plenty of time to dive into creativity. \nExplore a wide range of hands-on activities\, including LEGO printmaking\, watercolor painting\, clay crafting\, birdhouse building\, bead art\, origami\, and so much more! It’s the perfect way to make lasting memories while discovering new talents together!
URL:https://pigeonforgechamber.com/event/family-arts-crafts-workshops/2025-03-18/
LOCATION:Arrowmont School of Arts & Crafts\, 556 Parkway\, Gatlinburg\, TN\, 37738\, United States
CATEGORIES:Arts
ATTACH;FMTTYPE=image/jpeg:https://pigeonforgechamber.com/wp-content/uploads/2024/12/Arts-Crafts-2.jpg
END:VEVENT
BEGIN:VEVENT
DTSTART;TZID=America/New_York:20250308T120000
DTEND;TZID=America/New_York:20250308T170000
DTSTAMP:20260424T133618
CREATED:20250211T184607Z
LAST-MODIFIED:20250211T184607Z
UID:143442-1741435200-1741453200@pigeonforgechamber.com
SUMMARY:Gatlinburg Smoky Mountain Wine Fest
DESCRIPTION:Join the festivities at the Gatlinburg Smoky Mountain Wine Fest! Experience creativity in action with artists from Arrowmont and the Great Smoky Arts and Crafts Community showcasing their skills. Sip on a variety of wines from local wineries and savor delicious food pairings from Gatlinburg’s finest restaurants. Groove to live music all day long\, featuring The Reunited Duo and Smoky Mountain Tunes & Tales. Plus\, browse and purchase unique handcrafted items from talented artisans and wineries. Remember to bring your ID—it’s a 21+ event. Don’t miss out on this vibrant celebration in the heart of downtown Gatlinburg\, surrounded by the breathtaking Great Smoky Mountains!
URL:https://pigeonforgechamber.com/event/gatlinburg-smoky-mountain-wine-fest/
LOCATION:Arrowmont School of Arts & Crafts\, 556 Parkway\, Gatlinburg\, TN\, 37738\, United States
CATEGORIES:General
ATTACH;FMTTYPE=image/jpeg:https://pigeonforgechamber.com/wp-content/uploads/2024/12/GettyImages-1301017778.jpg
END:VEVENT
BEGIN:VEVENT
DTSTART;TZID=America/New_York:20240302T000000
DTEND;TZID=America/New_York:20240302T000000
DTSTAMP:20260424T133618
CREATED:20240216T005234Z
LAST-MODIFIED:20250103T193118Z
UID:141106-1709337600-1709337600@pigeonforgechamber.com
SUMMARY:Arrowmont Spring Family Workshops
DESCRIPTION:Arrowmont School of Arts and Crafts invites individuals of all ages to immerse themselves in a day brimming with creativity and artistic exploration. Our diverse array of workshops cater to both adults and children\, fostering a dynamic environment where budding talents can flourish under the guidance of seasoned professionals. \nHeld in Arrowmont’s well-equipped studios\, participants will engage in hands-on instruction\, delving into various mediums and techniques. As they hone their skills\, students will also savor a delectable lunch prepared by the skilled Arrowmont Culinary Team. Upon workshop completion\, attendees will proudly depart with a finished masterpiece ready for use and display. \nDiscover a range of classes\, including: \n"Spring Peepers": A Parent & Me Class tailored for 5 to 7-year-olds.\n"Personalized Platters with Slip Transfer": Suitable for adults and kids aged 7 and above.\n"Embroidered Initial": Ideal for adults and children aged 9 and up.\n"Mountain Flower Market Basket": Open to adults and kids aged 12 and above.\n"Sweet Relief: Intro to Relief Printmaking": Designed for adults and children aged 15 and above.\n"Spring Stained Glass Suncatcher": Available for adults and kids aged 15 and above.\nRegistration is priced at $90\, inclusive of all materials and supplies necessary for participation. For detailed workshop information and registration\, please visit arrowmont.org/classes. To secure your spot\, register by phone by contacting Sunny Moyers at (865) 436-5860. Unleash your creativity with Arrowmont School of Arts and Crafts!
URL:https://pigeonforgechamber.com/event/arrowmont-spring-family-workshops-2024/
LOCATION:Arrowmont School of Arts & Crafts\, 556 Parkway\, Gatlinburg\, TN\, 37738\, United States
CATEGORIES:and History Events,Arts,Culture
ATTACH;FMTTYPE=image/jpeg:https://pigeonforgechamber.com/wp-content/uploads/2016/08/arrowmont-e1530821468838.jpg
END:VEVENT
END:VCALENDAR