BEGIN:VCALENDAR
VERSION:2.0
PRODID:-//Pigeon Forge Chamber of Commerce - ECPv6.11.2//NONSGML v1.0//EN
CALSCALE:GREGORIAN
METHOD:PUBLISH
X-WR-CALNAME:Pigeon Forge Chamber of Commerce
X-ORIGINAL-URL:https://pigeonforgechamber.com
X-WR-CALDESC:Events for Pigeon Forge Chamber of Commerce
REFRESH-INTERVAL;VALUE=DURATION:PT1H
X-Robots-Tag:noindex
X-PUBLISHED-TTL:PT1H
BEGIN:VTIMEZONE
TZID:America/New_York
BEGIN:DAYLIGHT
TZOFFSETFROM:-0500
TZOFFSETTO:-0400
TZNAME:EDT
DTSTART:20250309T070000
END:DAYLIGHT
BEGIN:STANDARD
TZOFFSETFROM:-0400
TZOFFSETTO:-0500
TZNAME:EST
DTSTART:20251102T060000
END:STANDARD
END:VTIMEZONE
BEGIN:VEVENT
DTSTART;VALUE=DATE:20250425
DTEND;VALUE=DATE:20250428
DTSTAMP:20260424T125105
CREATED:20250211T204515Z
LAST-MODIFIED:20250211T204515Z
UID:143498-1745539200-1745798399@pigeonforgechamber.com
SUMMARY:Women of Joy
DESCRIPTION:Get ready for a powerful\, uplifting weekend designed to refresh and energize your faith! The Women of Joy Spring Tour brings together some of the nation’s top Christian speakers\, inspiring worship\, and sound biblical teaching for an unforgettable experience. \nSince 1994\, Women of Joy—led by Phil and Debbie Waldrep—has been changing lives\, ministering to groups ranging from 1\,000 to 14\,000 women at each event. These weekends are designed to unite women of all ages and backgrounds in the pursuit of a deeper\, more passionate relationship with Jesus Christ. \nDon’t miss this life-changing opportunity to grow\, connect\, and worship with women from all over the country!
URL:https://pigeonforgechamber.com/event/women-of-joy/
LOCATION:LeConte Center at Pigeon Forge\, 2986 Teaster Lane\, Pigeon Forge\, TN\, 37863\, United States
CATEGORIES:Conventions and Conferences
ATTACH;FMTTYPE=image/jpeg:https://pigeonforgechamber.com/wp-content/uploads/2024/12/womens-retreat.jpg
END:VEVENT
END:VCALENDAR