BEGIN:VCALENDAR
VERSION:2.0
PRODID:-//Pigeon Forge Chamber of Commerce - ECPv6.11.2//NONSGML v1.0//EN
CALSCALE:GREGORIAN
METHOD:PUBLISH
X-WR-CALNAME:Pigeon Forge Chamber of Commerce
X-ORIGINAL-URL:https://pigeonforgechamber.com
X-WR-CALDESC:Events for Pigeon Forge Chamber of Commerce
REFRESH-INTERVAL;VALUE=DURATION:PT1H
X-Robots-Tag:noindex
X-PUBLISHED-TTL:PT1H
BEGIN:VTIMEZONE
TZID:America/New_York
BEGIN:DAYLIGHT
TZOFFSETFROM:-0500
TZOFFSETTO:-0400
TZNAME:EDT
DTSTART:20250309T070000
END:DAYLIGHT
BEGIN:STANDARD
TZOFFSETFROM:-0400
TZOFFSETTO:-0500
TZNAME:EST
DTSTART:20251102T060000
END:STANDARD
END:VTIMEZONE
BEGIN:VEVENT
DTSTART;TZID=America/New_York:20251129T100000
DTEND;TZID=America/New_York:20251129T170000
DTSTAMP:20260424T154256
CREATED:20251120T135740Z
LAST-MODIFIED:20251120T135740Z
UID:145483-1764410400-1764435600@pigeonforgechamber.com
SUMMARY:Winter Wave Holiday Market at XPERIA: Ocean Journey
DESCRIPTION:Make a splash this holiday season at the Winter Wave Holiday Market\, hosted inside XPERIA: Ocean Journey! This festive pop-up market brings together local artisans\, unique gifts\, seasonal treats\, and holiday cheer all set against the stunning\, immersive backdrop of the ocean. \nStroll through vendor booths featuring handmade crafts\, coastal-inspired gifts\, holiday décor\, jewelry\, artwork\, and more. It’s the perfect place to find one-of-a-kind presents while enjoying the magic of XPERIA’s underwater world. \nNovember 29th – December 28th | Saturdays 10-5 PM | Sundays 12-5 PM \nIncluded with general admission. \nShop local. Celebrate the season. And dive into holiday fun at the Winter Wave Holiday Market! \nLearn more – https://www.facebook.com/events/1521960579084384
URL:https://pigeonforgechamber.com/event/winter-wave-holiday-market-at-xperia-ocean-journey/2025-11-29/
LOCATION:Xperia: Smoky Mountains\, 1645 Parkway\, Suite 780\, Sevierville\, TN\, 37862\, United States
ATTACH;FMTTYPE=image/jpeg:https://pigeonforgechamber.com/wp-content/uploads/2025/11/xperia-winter.jpg
END:VEVENT
END:VCALENDAR