BEGIN:VCALENDAR
VERSION:2.0
PRODID:-//Pigeon Forge Chamber of Commerce - ECPv6.11.2//NONSGML v1.0//EN
CALSCALE:GREGORIAN
METHOD:PUBLISH
X-WR-CALNAME:Pigeon Forge Chamber of Commerce
X-ORIGINAL-URL:https://pigeonforgechamber.com
X-WR-CALDESC:Events for Pigeon Forge Chamber of Commerce
REFRESH-INTERVAL;VALUE=DURATION:PT1H
X-Robots-Tag:noindex
X-PUBLISHED-TTL:PT1H
BEGIN:VTIMEZONE
TZID:America/New_York
BEGIN:DAYLIGHT
TZOFFSETFROM:-0500
TZOFFSETTO:-0400
TZNAME:EDT
DTSTART:20250309T070000
END:DAYLIGHT
BEGIN:STANDARD
TZOFFSETFROM:-0400
TZOFFSETTO:-0500
TZNAME:EST
DTSTART:20251102T060000
END:STANDARD
END:VTIMEZONE
BEGIN:VEVENT
DTSTART;VALUE=DATE:20251220
DTEND;VALUE=DATE:20251222
DTSTAMP:20260423T124746
CREATED:20251119T141140Z
LAST-MODIFIED:20251119T142259Z
UID:145475-1766188800-1766361599@pigeonforgechamber.com
SUMMARY:Tours with Santa at XPERIA: Ocean Journey
DESCRIPTION:Tour Times: 10 AM\, 12 PM\, 2 PM & 4 PM \nDive into the magic of the holidays at XPERIA: Ocean Journey! Santa and Mrs. Claus are making a special appearance this season\, leading exclusive guided tours through the immersive underwater experience at XPERIA. \nEvent Highlights: \n\n\nGuided tour led by Santa and Mrs. Claus \n\n\nFestive photo opportunity with Santa in an underwater-inspired setting \n\n\nSweet treat from Santa \n\n\nA magical holiday adventure the whole family will love \n\n\nEach tour is limited to 25 guests\, so be sure to reserve your spot early. \nTickets: Visit https://xperiaupclose.com/purchase-tickets/ to book your tour \nMake unforgettable holiday memories under the sea!
URL:https://pigeonforgechamber.com/event/tours-with-santa-at-xperia-ocean-journey/2025-12-20/
LOCATION:Xperia: Smoky Mountains\, 1645 Parkway\, Suite 780\, Sevierville\, TN\, 37862\, United States
ATTACH;FMTTYPE=image/jpeg:https://pigeonforgechamber.com/wp-content/uploads/2025/11/Xperia-Santa.jpg
END:VEVENT
END:VCALENDAR