BEGIN:VCALENDAR
VERSION:2.0
PRODID:-//Pigeon Forge Chamber of Commerce - ECPv6.11.2//NONSGML v1.0//EN
CALSCALE:GREGORIAN
METHOD:PUBLISH
X-WR-CALNAME:Pigeon Forge Chamber of Commerce
X-ORIGINAL-URL:https://pigeonforgechamber.com
X-WR-CALDESC:Events for Pigeon Forge Chamber of Commerce
REFRESH-INTERVAL;VALUE=DURATION:PT1H
X-Robots-Tag:noindex
X-PUBLISHED-TTL:PT1H
BEGIN:VTIMEZONE
TZID:America/New_York
BEGIN:DAYLIGHT
TZOFFSETFROM:-0500
TZOFFSETTO:-0400
TZNAME:EDT
DTSTART:20260308T070000
END:DAYLIGHT
BEGIN:STANDARD
TZOFFSETFROM:-0400
TZOFFSETTO:-0500
TZNAME:EST
DTSTART:20261101T060000
END:STANDARD
END:VTIMEZONE
BEGIN:VEVENT
DTSTART;VALUE=DATE:20260221
DTEND;VALUE=DATE:20260223
DTSTAMP:20260424T130721
CREATED:20260105T144430Z
LAST-MODIFIED:20260105T144430Z
UID:145812-1771632000-1771804799@pigeonforgechamber.com
SUMMARY:Sweet Victory Sevierville Apex Cheer Championship
DESCRIPTION:Join us in Tennessee for an exciting two-day competition weekend hosted by APEX. This high-energy event brings teams together for a full weekend of competition\, fun\, and unforgettable moments. \nAs a special highlight\, all first-place teams will leave with championship jackets\, making this an event you won’t want to miss. With a well-organized schedule and exciting atmosphere\, APEX delivers a competitive experience designed to celebrate every team’s hard work and success. \n📣 Plan to spend the weekend with us and be part of an unforgettable competition experience! \nLearn more – https://www.cheermaxcompetitions.com/221-2226-sevierville-tn.html
URL:https://pigeonforgechamber.com/event/sweet-victory-sevierville-apex-cheer-championship/
LOCATION:Sevierville Convention Center\, 202 Gists Creek Rd\, Sevierville\, TN\, 37876\, United States
ATTACH;FMTTYPE=image/jpeg:https://pigeonforgechamber.com/wp-content/uploads/2026/01/7dd53028-dd11-4e55-9759-dafee0ccbf24_orig.jpeg
END:VEVENT
END:VCALENDAR