BEGIN:VCALENDAR
VERSION:2.0
PRODID:-//Pigeon Forge Chamber of Commerce - ECPv6.11.2//NONSGML v1.0//EN
CALSCALE:GREGORIAN
METHOD:PUBLISH
X-WR-CALNAME:Pigeon Forge Chamber of Commerce
X-ORIGINAL-URL:https://pigeonforgechamber.com
X-WR-CALDESC:Events for Pigeon Forge Chamber of Commerce
REFRESH-INTERVAL;VALUE=DURATION:PT1H
X-Robots-Tag:noindex
X-PUBLISHED-TTL:PT1H
BEGIN:VTIMEZONE
TZID:America/New_York
BEGIN:DAYLIGHT
TZOFFSETFROM:-0500
TZOFFSETTO:-0400
TZNAME:EDT
DTSTART:20260308T070000
END:DAYLIGHT
BEGIN:STANDARD
TZOFFSETFROM:-0400
TZOFFSETTO:-0500
TZNAME:EST
DTSTART:20261101T060000
END:STANDARD
END:VTIMEZONE
BEGIN:VEVENT
DTSTART;TZID=America/New_York:20260510T140000
DTEND;TZID=America/New_York:20260510T160000
DTSTAMP:20260422T151027
CREATED:20260415T140120Z
LAST-MODIFIED:20260415T140120Z
UID:146649-1778421600-1778428800@pigeonforgechamber.com
SUMMARY:Smokies Baseball Game: Mother’s Day Celebration & Giveaway
DESCRIPTION:Celebrate the moms and mother figures in your life with a special day at the ballpark as the Knoxville Smokies take on the Birmingham Barons at Smokies Stadium! \nMother’s Day CelebrationTreat Mom to an afternoon of baseball\, family fun\, and unforgettable memories. It’s the perfect way to say “thank you” and spend quality time together at the park. \nClear Purse GiveawayThe first 500 women in attendance will receive a stylish clear purse. Arrive early to snag yours! \nAfter the game\, kids ages 4–12 are invited to run the bases\, adding an extra dose of fun to this special day. \nMake this Mother’s Day one to remember with baseball\, family\, and a whole lot of love! \nBuy Tickets Now! https://www.milb.com/knoxville/schedule/2026-05
URL:https://pigeonforgechamber.com/event/smokies-baseball-game-mothers-day-celebration-giveaway/
LOCATION:Covenant Health Park\, 500 E Jackson Ave\, Knoxville\, 37915\, United States
ATTACH;FMTTYPE=image/png:https://pigeonforgechamber.com/wp-content/uploads/2026/04/iap6wkaltybpiyuqotq3.png
END:VEVENT
END:VCALENDAR