BEGIN:VCALENDAR
VERSION:2.0
PRODID:-//Pigeon Forge Chamber of Commerce - ECPv6.11.2//NONSGML v1.0//EN
CALSCALE:GREGORIAN
METHOD:PUBLISH
X-WR-CALNAME:Pigeon Forge Chamber of Commerce
X-ORIGINAL-URL:https://pigeonforgechamber.com
X-WR-CALDESC:Events for Pigeon Forge Chamber of Commerce
REFRESH-INTERVAL;VALUE=DURATION:PT1H
X-Robots-Tag:noindex
X-PUBLISHED-TTL:PT1H
BEGIN:VTIMEZONE
TZID:America/New_York
BEGIN:DAYLIGHT
TZOFFSETFROM:-0500
TZOFFSETTO:-0400
TZNAME:EDT
DTSTART:20260308T070000
END:DAYLIGHT
BEGIN:STANDARD
TZOFFSETFROM:-0400
TZOFFSETTO:-0500
TZNAME:EST
DTSTART:20261101T060000
END:STANDARD
END:VTIMEZONE
BEGIN:VEVENT
DTSTART;TZID=America/New_York:20260507T190000
DTEND;TZID=America/New_York:20260507T210000
DTSTAMP:20260422T163909
CREATED:20260415T133957Z
LAST-MODIFIED:20260415T133957Z
UID:146644-1778180400-1778187600@pigeonforgechamber.com
SUMMARY:Smokies Baseball Game: Knox Vegas Night
DESCRIPTION:Keep the series going as the Knoxville Smokies take on the Birmingham Barons at Smokies Stadium! \nThursday night brings a high-energy lineup of promotions that make this a can’t-miss game: \nThirsty ThursdayEnjoy half-price draft beer all night long\, presented by Flying Panda. This is perfect for a fun night out at the ballpark. \nKnox Vegas NightExperience the bold\, high-energy spirit of Knoxville with “Knox Vegas\,” a celebration of the bright lights\, big personalities\, and unforgettable atmosphere inspired by Cumberland Avenue\, also known as “The Strip.” \nCollege NightCollege students can take advantage of a $10 standing room only ticket with a valid student ID from any local university. Simply present your ID at the box office to redeem. \nFrom great deals to great vibes\, Thursday night at the ballpark is the perfect way to kickstart your weekend early! \nBuy Tickets Now! https://www.milb.com/knoxville/schedule/2026-05
URL:https://pigeonforgechamber.com/event/smokies-baseball-game-knox-vegas-night-2/
LOCATION:Covenant Health Park\, 500 E Jackson Ave\, Knoxville\, 37915\, United States
ATTACH;FMTTYPE=image/png:https://pigeonforgechamber.com/wp-content/uploads/2024/11/mc_5961.png
END:VEVENT
END:VCALENDAR