BEGIN:VCALENDAR
VERSION:2.0
PRODID:-//Pigeon Forge Chamber of Commerce - ECPv6.11.2//NONSGML v1.0//EN
CALSCALE:GREGORIAN
METHOD:PUBLISH
X-WR-CALNAME:Pigeon Forge Chamber of Commerce
X-ORIGINAL-URL:https://pigeonforgechamber.com
X-WR-CALDESC:Events for Pigeon Forge Chamber of Commerce
REFRESH-INTERVAL;VALUE=DURATION:PT1H
X-Robots-Tag:noindex
X-PUBLISHED-TTL:PT1H
BEGIN:VTIMEZONE
TZID:America/New_York
BEGIN:DAYLIGHT
TZOFFSETFROM:-0500
TZOFFSETTO:-0400
TZNAME:EDT
DTSTART:20260308T070000
END:DAYLIGHT
BEGIN:STANDARD
TZOFFSETFROM:-0400
TZOFFSETTO:-0500
TZNAME:EST
DTSTART:20261101T060000
END:STANDARD
END:VTIMEZONE
BEGIN:VEVENT
DTSTART;TZID=America/New_York:20260424T190000
DTEND;TZID=America/New_York:20260424T210000
DTSTAMP:20260420T085355
CREATED:20260413T200547Z
LAST-MODIFIED:20260413T200547Z
UID:146636-1777057200-1777064400@pigeonforgechamber.com
SUMMARY:Smokies Baseball Game: Feel-Good Friday
DESCRIPTION:Kick off the weekend with an exciting night of baseball as the Knoxville Smokies take on the Chattanooga Lookouts at Smokies Stadium! \nFriday night brings great vibes and even better deals with two fan-favorite promotions: \nChick-fil-A Friday Ticket OfferBring your crew out to the ballpark with this special deal—$48 gets you 2 game tickets and 2 Chick-fil-A coupons! Coupons can be picked up at the Fan Assistance Booth behind Section 109 and redeemed at participating Chick-fil-A locations in Knoxville (not valid at the stadium). \nFeel-Good FridayCelebrate the end of the week with a relaxing evening of baseball\, delicious ballpark food\, and a fun\, feel-good atmosphere presented by Gary Yeomans Ford. \nRound up your friends and family and enjoy a Friday night under the lights with America’s favorite pastime! \nBuy Tickets Now! https://www.milb.com/knoxville/schedule/2026-04
URL:https://pigeonforgechamber.com/event/smokies-baseball-game-feel-good-friday/
LOCATION:Covenant Health Park\, 500 E Jackson Ave\, Knoxville\, 37915\, United States
ATTACH;FMTTYPE=image/png:https://pigeonforgechamber.com/wp-content/uploads/2024/11/mc_5961.png
END:VEVENT
END:VCALENDAR