BEGIN:VCALENDAR
VERSION:2.0
PRODID:-//Pigeon Forge Chamber of Commerce - ECPv6.11.2//NONSGML v1.0//EN
CALSCALE:GREGORIAN
METHOD:PUBLISH
X-WR-CALNAME:Pigeon Forge Chamber of Commerce
X-ORIGINAL-URL:https://pigeonforgechamber.com
X-WR-CALDESC:Events for Pigeon Forge Chamber of Commerce
REFRESH-INTERVAL;VALUE=DURATION:PT1H
X-Robots-Tag:noindex
X-PUBLISHED-TTL:PT1H
BEGIN:VTIMEZONE
TZID:America/New_York
BEGIN:DAYLIGHT
TZOFFSETFROM:-0500
TZOFFSETTO:-0400
TZNAME:EDT
DTSTART:20260308T070000
END:DAYLIGHT
BEGIN:STANDARD
TZOFFSETFROM:-0400
TZOFFSETTO:-0500
TZNAME:EST
DTSTART:20261101T060000
END:STANDARD
END:VTIMEZONE
BEGIN:VEVENT
DTSTART;TZID=America/New_York:20260425T190000
DTEND;TZID=America/New_York:20260425T210000
DTSTAMP:20260422T174431
CREATED:20260413T200919Z
LAST-MODIFIED:20260413T200919Z
UID:146637-1777143600-1777150800@pigeonforgechamber.com
SUMMARY:Smokies Baseball Game: Dancing with the Smokies
DESCRIPTION:Get ready for a night of baseball\, music\, and unforgettable entertainment as the Knoxville Smokies take on the Chattanooga Lookouts at Smokies Stadium! \nDancing with the SmokiesTurn up the fun with a lively night filled with themed music\, exciting between-inning entertainment\, and a special appearance by Elaine Hendrix! The energy doesn’t stop when the game ends! Fans can also enjoy the magical Anakeesta firefly experience postgame. \nSummer Fireworks SeriesStick around after the final out for a dazzling fireworks show that will light up the night sky! The show begins immediately following the game and is the perfect grand finale to an already incredible evening. \nFrom first pitch to fireworks\, Saturday night at the ballpark is a can’t-miss experience for the whole family! \nBuy Tickets Now! https://www.milb.com/knoxville/schedule/2026-04
URL:https://pigeonforgechamber.com/event/smokies-baseball-game-dancing-with-the-smokies/
LOCATION:Covenant Health Park\, 500 E Jackson Ave\, Knoxville\, 37915\, United States
ATTACH;FMTTYPE=image/png:https://pigeonforgechamber.com/wp-content/uploads/2024/11/mc_5961.png
END:VEVENT
END:VCALENDAR