BEGIN:VCALENDAR
VERSION:2.0
PRODID:-//Pigeon Forge Chamber of Commerce - ECPv6.11.2//NONSGML v1.0//EN
CALSCALE:GREGORIAN
METHOD:PUBLISH
X-WR-CALNAME:Pigeon Forge Chamber of Commerce
X-ORIGINAL-URL:https://pigeonforgechamber.com
X-WR-CALDESC:Events for Pigeon Forge Chamber of Commerce
REFRESH-INTERVAL;VALUE=DURATION:PT1H
X-Robots-Tag:noindex
X-PUBLISHED-TTL:PT1H
BEGIN:VTIMEZONE
TZID:America/New_York
BEGIN:DAYLIGHT
TZOFFSETFROM:-0500
TZOFFSETTO:-0400
TZNAME:EDT
DTSTART:20250309T070000
END:DAYLIGHT
BEGIN:STANDARD
TZOFFSETFROM:-0400
TZOFFSETTO:-0500
TZNAME:EST
DTSTART:20251102T060000
END:STANDARD
END:VTIMEZONE
BEGIN:VEVENT
DTSTART;TZID=America/New_York:20250410T000000
DTEND;TZID=America/New_York:20250412T000000
DTSTAMP:20260423T153325
CREATED:20240320T001639Z
LAST-MODIFIED:20250103T192958Z
UID:140827-1744243200-1744416000@pigeonforgechamber.com
SUMMARY:Pigeon Forge Spring Rod Run
DESCRIPTION:Calling all automotive enthusiasts! Don’t miss out on the Pigeon Forge Rod Run\, the largest automotive event in the area! This spring extravaganza boasts top 25 awards\, ultimate 5 awards\, a massive swap meet featuring hundreds of showcars and a car corral\, plus a chance to win big cash prizes. Gear up for an unforgettable weekend of horsepower and excitement!
URL:https://pigeonforgechamber.com/event/pigeon-forge-spring-rod-run-4-10-2025/
CATEGORIES:Car and Truck Shows
ATTACH;FMTTYPE=image/jpeg:https://pigeonforgechamber.com/wp-content/uploads/2024/12/rod-run-.jpg
END:VEVENT
END:VCALENDAR