BEGIN:VCALENDAR
VERSION:2.0
PRODID:-//Pigeon Forge Chamber of Commerce - ECPv6.11.2//NONSGML v1.0//EN
CALSCALE:GREGORIAN
METHOD:PUBLISH
X-WR-CALNAME:Pigeon Forge Chamber of Commerce
X-ORIGINAL-URL:https://pigeonforgechamber.com
X-WR-CALDESC:Events for Pigeon Forge Chamber of Commerce
REFRESH-INTERVAL;VALUE=DURATION:PT1H
X-Robots-Tag:noindex
X-PUBLISHED-TTL:PT1H
BEGIN:VTIMEZONE
TZID:America/New_York
BEGIN:DAYLIGHT
TZOFFSETFROM:-0500
TZOFFSETTO:-0400
TZNAME:EDT
DTSTART:20230312T070000
END:DAYLIGHT
BEGIN:STANDARD
TZOFFSETFROM:-0400
TZOFFSETTO:-0500
TZNAME:EST
DTSTART:20231105T060000
END:STANDARD
END:VTIMEZONE
BEGIN:VEVENT
DTSTART;TZID=America/New_York:20230408T000000
DTEND;TZID=America/New_York:20230408T000000
DTSTAMP:20260422T141424
CREATED:20230321T190203Z
LAST-MODIFIED:20250103T193226Z
UID:141346-1680912000-1680912000@pigeonforgechamber.com
SUMMARY:Pigeon Forge Parks & Recreation Easter Egg Hunt
DESCRIPTION:Grab the kids and bring the family to Wear Farm City Park for a fantastic Easter egg hunt! You will be looking high and low for all the bright and beautiful eggs at this community event that brings joy to all ages. Don’t forget to bring your basket and your camera\, because this will be a day of memories you do not want to forget.
URL:https://pigeonforgechamber.com/event/pigeon-forge-parks-recreation-easter-egg-hunt-april-8-2023/
LOCATION:Wear Farm City Park\, 623 Wears Valley Road\, Pigeon Forge\, TN\, 37863\, United States
CATEGORIES:Seasonal and Holiday Events
ATTACH;FMTTYPE=image/jpeg:https://pigeonforgechamber.com/wp-content/uploads/2024/12/Easter-Egg-Hunt-scaled.jpg
END:VEVENT
END:VCALENDAR