BEGIN:VCALENDAR
VERSION:2.0
PRODID:-//Pigeon Forge Chamber of Commerce - ECPv6.11.2//NONSGML v1.0//EN
CALSCALE:GREGORIAN
METHOD:PUBLISH
X-WR-CALNAME:Pigeon Forge Chamber of Commerce
X-ORIGINAL-URL:https://pigeonforgechamber.com
X-WR-CALDESC:Events for Pigeon Forge Chamber of Commerce
REFRESH-INTERVAL;VALUE=DURATION:PT1H
X-Robots-Tag:noindex
X-PUBLISHED-TTL:PT1H
BEGIN:VTIMEZONE
TZID:America/New_York
BEGIN:DAYLIGHT
TZOFFSETFROM:-0500
TZOFFSETTO:-0400
TZNAME:EDT
DTSTART:20220313T070000
END:DAYLIGHT
BEGIN:STANDARD
TZOFFSETFROM:-0400
TZOFFSETTO:-0500
TZNAME:EST
DTSTART:20221106T060000
END:STANDARD
END:VTIMEZONE
BEGIN:VEVENT
DTSTART;TZID=America/New_York:20221126T000000
DTEND;TZID=America/New_York:20221126T000000
DTSTAMP:20260423T064622
CREATED:20221102T231204Z
LAST-MODIFIED:20250103T194116Z
UID:141852-1669420800-1669420800@pigeonforgechamber.com
SUMMARY:Paula’s Tree Lighting Celebration at the Lumberjack Feud
DESCRIPTION:On November 26\, the Christmas season begins with Paula’s Tree Lighting Celebration at the Lumberjack Feud.  Paula Deen will be onsite to illuminate our HUGE 30-foot tree dressed with winter décor and lumberjack themed ornaments. Celebrations begin at 5pm.\nLive Entertainment\nFREE Pictures with Santa\nFood & Drinks\nHot Cocoa Bar\nCookie Decorating Station\nTickets Available for the Lumberjack Feud Adventure Park\nWatch the 8:00pm Lumberjack Show with Paula!
URL:https://pigeonforgechamber.com/event/paulas-tree-lighting-celebration-at-the-lumberjack-feud-11-26-2022/
LOCATION:Lumberjack Feud\, United States
CATEGORIES:Seasonal and Holiday Events
ATTACH;FMTTYPE=image/jpeg:https://pigeonforgechamber.com/wp-content/uploads/2024/12/Paula-Deen-tree-decorating.jpg
END:VEVENT
END:VCALENDAR