BEGIN:VCALENDAR
VERSION:2.0
PRODID:-//Pigeon Forge Chamber of Commerce - ECPv6.11.2//NONSGML v1.0//EN
CALSCALE:GREGORIAN
METHOD:PUBLISH
X-WR-CALNAME:Pigeon Forge Chamber of Commerce
X-ORIGINAL-URL:https://pigeonforgechamber.com
X-WR-CALDESC:Events for Pigeon Forge Chamber of Commerce
REFRESH-INTERVAL;VALUE=DURATION:PT1H
X-Robots-Tag:noindex
X-PUBLISHED-TTL:PT1H
BEGIN:VTIMEZONE
TZID:America/New_York
BEGIN:DAYLIGHT
TZOFFSETFROM:-0500
TZOFFSETTO:-0400
TZNAME:EDT
DTSTART:20250309T070000
END:DAYLIGHT
BEGIN:STANDARD
TZOFFSETFROM:-0400
TZOFFSETTO:-0500
TZNAME:EST
DTSTART:20251102T060000
END:STANDARD
BEGIN:DAYLIGHT
TZOFFSETFROM:-0500
TZOFFSETTO:-0400
TZNAME:EDT
DTSTART:20260308T070000
END:DAYLIGHT
BEGIN:STANDARD
TZOFFSETFROM:-0400
TZOFFSETTO:-0500
TZNAME:EST
DTSTART:20261101T060000
END:STANDARD
END:VTIMEZONE
BEGIN:VEVENT
DTSTART;TZID=America/New_York:20251231T173000
DTEND;TZID=America/New_York:20260101T010000
DTSTAMP:20260424T180427
CREATED:20251230T203120Z
LAST-MODIFIED:20251230T203120Z
UID:145776-1767202200-1767229200@pigeonforgechamber.com
SUMMARY:New Year's Eve Celebration at Ancient Lore Village
DESCRIPTION:🎟 Tickets: $99 per adult🔞 Ages: 21+ \nRing in 2026 with an enchanting New Year’s Eve Celebration at Ancient Lore Village. Set in Knoxville’s most whimsical setting\, this elegant evening brings together festive cheer\, fine dining\, and unforgettable moments shared with friends and loved ones. \nThe night begins with a charcuterie board and a fun New Year’s Eve Trivia Challenge\, followed by a gourmet\, multi-course dinner served beneath the glow of fairy lights. A champagne toast at 8:00 PM is included with your ticket as we raise a glass to the year ahead. Guests are invited to enjoy signature cocktails and fine wines (available for purchase)\, relax by the Unity Firepit\, and celebrate in true Village style under the stars. \nDinner Menu\n\n\nCharcuterie Board (served 5:30–6:00 PM with trivia registration) \n\n\nCrisp Winter Salad with spring mix\, dried cranberries\, Granny Smith apples\, feta\, and white balsamic dressing \n\n\nWarm Cheesy Crab Dip with fresh bruschetta and blue corn chips (shared appetizer) \n\n\nGrilled 6oz Black Angus Filet topped with creamy Jameson leek sauce infused with lump crab and shrimp \n\n\nRustic Mashed Potatoes \n\n\nLemon Broccolini \n\n\nFlourless Chocolate Torte with Chantilly and house-made raspberry sauce \n\n\n✨ Seating is limited for this one-night-only celebration. Reserve your spot before it sells out! https://www.ancientlorevillage.com/events/new-years-eve-celebration/?occurrence=2025-12-31 \nCash bar available.
URL:https://pigeonforgechamber.com/event/new-years-eve-celebration-at-ancient-lore-village/
LOCATION:Ancient Lore Village\, United States
ATTACH;FMTTYPE=image/jpeg:https://pigeonforgechamber.com/wp-content/uploads/2025/12/new-year-s-eve-celebration-1.jpg
END:VEVENT
END:VCALENDAR