BEGIN:VCALENDAR
VERSION:2.0
PRODID:-//Pigeon Forge Chamber of Commerce - ECPv6.11.2//NONSGML v1.0//EN
CALSCALE:GREGORIAN
METHOD:PUBLISH
X-ORIGINAL-URL:https://pigeonforgechamber.com
X-WR-CALDESC:Events for Pigeon Forge Chamber of Commerce
REFRESH-INTERVAL;VALUE=DURATION:PT1H
X-Robots-Tag:noindex
X-PUBLISHED-TTL:PT1H
BEGIN:VTIMEZONE
TZID:America/New_York
BEGIN:DAYLIGHT
TZOFFSETFROM:-0500
TZOFFSETTO:-0400
TZNAME:EDT
DTSTART:20250309T070000
END:DAYLIGHT
BEGIN:STANDARD
TZOFFSETFROM:-0400
TZOFFSETTO:-0500
TZNAME:EST
DTSTART:20251102T060000
END:STANDARD
END:VTIMEZONE
BEGIN:VEVENT
DTSTART;TZID=America/New_York:20251018T083000
DTEND;TZID=America/New_York:20251018T120000
DTSTAMP:20260423T150115
CREATED:20250321T143005Z
LAST-MODIFIED:20250321T143005Z
UID:143749-1760776200-1760788800@pigeonforgechamber.com
SUMMARY:Gatlinburg's Farmers Market
DESCRIPTION:Dive into the local vibe of healthy mountain living at our Farmers Market! Swing by every Saturday from 8:30 a.m. to 12:00 p.m. at 1222 East Parkway\, right across from Food City. From May through October\, meet local producers\, snag fresh produce\, and check out homemade goodies—all in a cozy community atmosphere.
URL:https://pigeonforgechamber.com/event/gatlinburgs-farmers-market/2025-10-18/
LOCATION:Gatlinburg Farmers Market\, 222 East Parkway\, Gatlinburg\, TN\, 37738\, United States
ATTACH;FMTTYPE=image/jpeg:https://pigeonforgechamber.com/wp-content/uploads/2024/12/june-sevierville-farmers-market.jpg
END:VEVENT
BEGIN:VEVENT
DTSTART;TZID=America/New_York:20251011T083000
DTEND;TZID=America/New_York:20251011T120000
DTSTAMP:20260423T150115
CREATED:20250321T143005Z
LAST-MODIFIED:20250321T143005Z
UID:143748-1760171400-1760184000@pigeonforgechamber.com
SUMMARY:Gatlinburg's Farmers Market
DESCRIPTION:Dive into the local vibe of healthy mountain living at our Farmers Market! Swing by every Saturday from 8:30 a.m. to 12:00 p.m. at 1222 East Parkway\, right across from Food City. From May through October\, meet local producers\, snag fresh produce\, and check out homemade goodies—all in a cozy community atmosphere.
URL:https://pigeonforgechamber.com/event/gatlinburgs-farmers-market/2025-10-11/
LOCATION:Gatlinburg Farmers Market\, 222 East Parkway\, Gatlinburg\, TN\, 37738\, United States
ATTACH;FMTTYPE=image/jpeg:https://pigeonforgechamber.com/wp-content/uploads/2024/12/june-sevierville-farmers-market.jpg
END:VEVENT
BEGIN:VEVENT
DTSTART;TZID=America/New_York:20251004T083000
DTEND;TZID=America/New_York:20251004T120000
DTSTAMP:20260423T150115
CREATED:20250321T143005Z
LAST-MODIFIED:20250321T143005Z
UID:143747-1759566600-1759579200@pigeonforgechamber.com
SUMMARY:Gatlinburg's Farmers Market
DESCRIPTION:Dive into the local vibe of healthy mountain living at our Farmers Market! Swing by every Saturday from 8:30 a.m. to 12:00 p.m. at 1222 East Parkway\, right across from Food City. From May through October\, meet local producers\, snag fresh produce\, and check out homemade goodies—all in a cozy community atmosphere.
URL:https://pigeonforgechamber.com/event/gatlinburgs-farmers-market/2025-10-04/
LOCATION:Gatlinburg Farmers Market\, 222 East Parkway\, Gatlinburg\, TN\, 37738\, United States
ATTACH;FMTTYPE=image/jpeg:https://pigeonforgechamber.com/wp-content/uploads/2024/12/june-sevierville-farmers-market.jpg
END:VEVENT
BEGIN:VEVENT
DTSTART;TZID=America/New_York:20250927T083000
DTEND;TZID=America/New_York:20250927T120000
DTSTAMP:20260423T150115
CREATED:20250321T143005Z
LAST-MODIFIED:20250321T143005Z
UID:143746-1758961800-1758974400@pigeonforgechamber.com
SUMMARY:Gatlinburg's Farmers Market
DESCRIPTION:Dive into the local vibe of healthy mountain living at our Farmers Market! Swing by every Saturday from 8:30 a.m. to 12:00 p.m. at 1222 East Parkway\, right across from Food City. From May through October\, meet local producers\, snag fresh produce\, and check out homemade goodies—all in a cozy community atmosphere.
URL:https://pigeonforgechamber.com/event/gatlinburgs-farmers-market/2025-09-27/
LOCATION:Gatlinburg Farmers Market\, 222 East Parkway\, Gatlinburg\, TN\, 37738\, United States
ATTACH;FMTTYPE=image/jpeg:https://pigeonforgechamber.com/wp-content/uploads/2024/12/june-sevierville-farmers-market.jpg
END:VEVENT
BEGIN:VEVENT
DTSTART;TZID=America/New_York:20250920T083000
DTEND;TZID=America/New_York:20250920T120000
DTSTAMP:20260423T150115
CREATED:20250321T143005Z
LAST-MODIFIED:20250321T143005Z
UID:143745-1758357000-1758369600@pigeonforgechamber.com
SUMMARY:Gatlinburg's Farmers Market
DESCRIPTION:Dive into the local vibe of healthy mountain living at our Farmers Market! Swing by every Saturday from 8:30 a.m. to 12:00 p.m. at 1222 East Parkway\, right across from Food City. From May through October\, meet local producers\, snag fresh produce\, and check out homemade goodies—all in a cozy community atmosphere.
URL:https://pigeonforgechamber.com/event/gatlinburgs-farmers-market/2025-09-20/
LOCATION:Gatlinburg Farmers Market\, 222 East Parkway\, Gatlinburg\, TN\, 37738\, United States
ATTACH;FMTTYPE=image/jpeg:https://pigeonforgechamber.com/wp-content/uploads/2024/12/june-sevierville-farmers-market.jpg
END:VEVENT
BEGIN:VEVENT
DTSTART;TZID=America/New_York:20250913T083000
DTEND;TZID=America/New_York:20250913T120000
DTSTAMP:20260423T150115
CREATED:20250321T143005Z
LAST-MODIFIED:20250321T143005Z
UID:143744-1757752200-1757764800@pigeonforgechamber.com
SUMMARY:Gatlinburg's Farmers Market
DESCRIPTION:Dive into the local vibe of healthy mountain living at our Farmers Market! Swing by every Saturday from 8:30 a.m. to 12:00 p.m. at 1222 East Parkway\, right across from Food City. From May through October\, meet local producers\, snag fresh produce\, and check out homemade goodies—all in a cozy community atmosphere.
URL:https://pigeonforgechamber.com/event/gatlinburgs-farmers-market/2025-09-13/
LOCATION:Gatlinburg Farmers Market\, 222 East Parkway\, Gatlinburg\, TN\, 37738\, United States
ATTACH;FMTTYPE=image/jpeg:https://pigeonforgechamber.com/wp-content/uploads/2024/12/june-sevierville-farmers-market.jpg
END:VEVENT
BEGIN:VEVENT
DTSTART;TZID=America/New_York:20250906T083000
DTEND;TZID=America/New_York:20250906T120000
DTSTAMP:20260423T150115
CREATED:20250321T143005Z
LAST-MODIFIED:20250321T143005Z
UID:143743-1757147400-1757160000@pigeonforgechamber.com
SUMMARY:Gatlinburg's Farmers Market
DESCRIPTION:Dive into the local vibe of healthy mountain living at our Farmers Market! Swing by every Saturday from 8:30 a.m. to 12:00 p.m. at 1222 East Parkway\, right across from Food City. From May through October\, meet local producers\, snag fresh produce\, and check out homemade goodies—all in a cozy community atmosphere.
URL:https://pigeonforgechamber.com/event/gatlinburgs-farmers-market/2025-09-06/
LOCATION:Gatlinburg Farmers Market\, 222 East Parkway\, Gatlinburg\, TN\, 37738\, United States
ATTACH;FMTTYPE=image/jpeg:https://pigeonforgechamber.com/wp-content/uploads/2024/12/june-sevierville-farmers-market.jpg
END:VEVENT
BEGIN:VEVENT
DTSTART;TZID=America/New_York:20250830T083000
DTEND;TZID=America/New_York:20250830T120000
DTSTAMP:20260423T150115
CREATED:20250321T143005Z
LAST-MODIFIED:20250321T143005Z
UID:143742-1756542600-1756555200@pigeonforgechamber.com
SUMMARY:Gatlinburg's Farmers Market
DESCRIPTION:Dive into the local vibe of healthy mountain living at our Farmers Market! Swing by every Saturday from 8:30 a.m. to 12:00 p.m. at 1222 East Parkway\, right across from Food City. From May through October\, meet local producers\, snag fresh produce\, and check out homemade goodies—all in a cozy community atmosphere.
URL:https://pigeonforgechamber.com/event/gatlinburgs-farmers-market/2025-08-30/
LOCATION:Gatlinburg Farmers Market\, 222 East Parkway\, Gatlinburg\, TN\, 37738\, United States
ATTACH;FMTTYPE=image/jpeg:https://pigeonforgechamber.com/wp-content/uploads/2024/12/june-sevierville-farmers-market.jpg
END:VEVENT
BEGIN:VEVENT
DTSTART;TZID=America/New_York:20250823T083000
DTEND;TZID=America/New_York:20250823T120000
DTSTAMP:20260423T150115
CREATED:20250321T143005Z
LAST-MODIFIED:20250321T143005Z
UID:143741-1755937800-1755950400@pigeonforgechamber.com
SUMMARY:Gatlinburg's Farmers Market
DESCRIPTION:Dive into the local vibe of healthy mountain living at our Farmers Market! Swing by every Saturday from 8:30 a.m. to 12:00 p.m. at 1222 East Parkway\, right across from Food City. From May through October\, meet local producers\, snag fresh produce\, and check out homemade goodies—all in a cozy community atmosphere.
URL:https://pigeonforgechamber.com/event/gatlinburgs-farmers-market/2025-08-23/
LOCATION:Gatlinburg Farmers Market\, 222 East Parkway\, Gatlinburg\, TN\, 37738\, United States
ATTACH;FMTTYPE=image/jpeg:https://pigeonforgechamber.com/wp-content/uploads/2024/12/june-sevierville-farmers-market.jpg
END:VEVENT
BEGIN:VEVENT
DTSTART;TZID=America/New_York:20250816T083000
DTEND;TZID=America/New_York:20250816T120000
DTSTAMP:20260423T150115
CREATED:20250321T143005Z
LAST-MODIFIED:20250321T143005Z
UID:143740-1755333000-1755345600@pigeonforgechamber.com
SUMMARY:Gatlinburg's Farmers Market
DESCRIPTION:Dive into the local vibe of healthy mountain living at our Farmers Market! Swing by every Saturday from 8:30 a.m. to 12:00 p.m. at 1222 East Parkway\, right across from Food City. From May through October\, meet local producers\, snag fresh produce\, and check out homemade goodies—all in a cozy community atmosphere.
URL:https://pigeonforgechamber.com/event/gatlinburgs-farmers-market/2025-08-16/
LOCATION:Gatlinburg Farmers Market\, 222 East Parkway\, Gatlinburg\, TN\, 37738\, United States
ATTACH;FMTTYPE=image/jpeg:https://pigeonforgechamber.com/wp-content/uploads/2024/12/june-sevierville-farmers-market.jpg
END:VEVENT
BEGIN:VEVENT
DTSTART;TZID=America/New_York:20250809T083000
DTEND;TZID=America/New_York:20250809T120000
DTSTAMP:20260423T150115
CREATED:20250321T143005Z
LAST-MODIFIED:20250321T143005Z
UID:143739-1754728200-1754740800@pigeonforgechamber.com
SUMMARY:Gatlinburg's Farmers Market
DESCRIPTION:Dive into the local vibe of healthy mountain living at our Farmers Market! Swing by every Saturday from 8:30 a.m. to 12:00 p.m. at 1222 East Parkway\, right across from Food City. From May through October\, meet local producers\, snag fresh produce\, and check out homemade goodies—all in a cozy community atmosphere.
URL:https://pigeonforgechamber.com/event/gatlinburgs-farmers-market/2025-08-09/
LOCATION:Gatlinburg Farmers Market\, 222 East Parkway\, Gatlinburg\, TN\, 37738\, United States
ATTACH;FMTTYPE=image/jpeg:https://pigeonforgechamber.com/wp-content/uploads/2024/12/june-sevierville-farmers-market.jpg
END:VEVENT
BEGIN:VEVENT
DTSTART;TZID=America/New_York:20250802T083000
DTEND;TZID=America/New_York:20250802T120000
DTSTAMP:20260423T150115
CREATED:20250321T143005Z
LAST-MODIFIED:20250321T143005Z
UID:143738-1754123400-1754136000@pigeonforgechamber.com
SUMMARY:Gatlinburg's Farmers Market
DESCRIPTION:Dive into the local vibe of healthy mountain living at our Farmers Market! Swing by every Saturday from 8:30 a.m. to 12:00 p.m. at 1222 East Parkway\, right across from Food City. From May through October\, meet local producers\, snag fresh produce\, and check out homemade goodies—all in a cozy community atmosphere.
URL:https://pigeonforgechamber.com/event/gatlinburgs-farmers-market/2025-08-02/
LOCATION:Gatlinburg Farmers Market\, 222 East Parkway\, Gatlinburg\, TN\, 37738\, United States
ATTACH;FMTTYPE=image/jpeg:https://pigeonforgechamber.com/wp-content/uploads/2024/12/june-sevierville-farmers-market.jpg
END:VEVENT
BEGIN:VEVENT
DTSTART;TZID=America/New_York:20250726T083000
DTEND;TZID=America/New_York:20250726T120000
DTSTAMP:20260423T150115
CREATED:20250321T143005Z
LAST-MODIFIED:20250321T143005Z
UID:143736-1753518600-1753531200@pigeonforgechamber.com
SUMMARY:Gatlinburg's Farmers Market
DESCRIPTION:Dive into the local vibe of healthy mountain living at our Farmers Market! Swing by every Saturday from 8:30 a.m. to 12:00 p.m. at 1222 East Parkway\, right across from Food City. From May through October\, meet local producers\, snag fresh produce\, and check out homemade goodies—all in a cozy community atmosphere.
URL:https://pigeonforgechamber.com/event/gatlinburgs-farmers-market/2025-07-26/
LOCATION:Gatlinburg Farmers Market\, 222 East Parkway\, Gatlinburg\, TN\, 37738\, United States
ATTACH;FMTTYPE=image/jpeg:https://pigeonforgechamber.com/wp-content/uploads/2024/12/june-sevierville-farmers-market.jpg
END:VEVENT
BEGIN:VEVENT
DTSTART;TZID=America/New_York:20250719T083000
DTEND;TZID=America/New_York:20250719T120000
DTSTAMP:20260423T150115
CREATED:20250321T143005Z
LAST-MODIFIED:20250321T143005Z
UID:143735-1752913800-1752926400@pigeonforgechamber.com
SUMMARY:Gatlinburg's Farmers Market
DESCRIPTION:Dive into the local vibe of healthy mountain living at our Farmers Market! Swing by every Saturday from 8:30 a.m. to 12:00 p.m. at 1222 East Parkway\, right across from Food City. From May through October\, meet local producers\, snag fresh produce\, and check out homemade goodies—all in a cozy community atmosphere.
URL:https://pigeonforgechamber.com/event/gatlinburgs-farmers-market/2025-07-19/
LOCATION:Gatlinburg Farmers Market\, 222 East Parkway\, Gatlinburg\, TN\, 37738\, United States
ATTACH;FMTTYPE=image/jpeg:https://pigeonforgechamber.com/wp-content/uploads/2024/12/june-sevierville-farmers-market.jpg
END:VEVENT
BEGIN:VEVENT
DTSTART;TZID=America/New_York:20250712T083000
DTEND;TZID=America/New_York:20250712T120000
DTSTAMP:20260423T150115
CREATED:20250321T143005Z
LAST-MODIFIED:20250321T143005Z
UID:143734-1752309000-1752321600@pigeonforgechamber.com
SUMMARY:Gatlinburg's Farmers Market
DESCRIPTION:Dive into the local vibe of healthy mountain living at our Farmers Market! Swing by every Saturday from 8:30 a.m. to 12:00 p.m. at 1222 East Parkway\, right across from Food City. From May through October\, meet local producers\, snag fresh produce\, and check out homemade goodies—all in a cozy community atmosphere.
URL:https://pigeonforgechamber.com/event/gatlinburgs-farmers-market/2025-07-12/
LOCATION:Gatlinburg Farmers Market\, 222 East Parkway\, Gatlinburg\, TN\, 37738\, United States
ATTACH;FMTTYPE=image/jpeg:https://pigeonforgechamber.com/wp-content/uploads/2024/12/june-sevierville-farmers-market.jpg
END:VEVENT
BEGIN:VEVENT
DTSTART;TZID=America/New_York:20250705T083000
DTEND;TZID=America/New_York:20250705T120000
DTSTAMP:20260423T150115
CREATED:20250321T143005Z
LAST-MODIFIED:20250321T143005Z
UID:143733-1751704200-1751716800@pigeonforgechamber.com
SUMMARY:Gatlinburg's Farmers Market
DESCRIPTION:Dive into the local vibe of healthy mountain living at our Farmers Market! Swing by every Saturday from 8:30 a.m. to 12:00 p.m. at 1222 East Parkway\, right across from Food City. From May through October\, meet local producers\, snag fresh produce\, and check out homemade goodies—all in a cozy community atmosphere.
URL:https://pigeonforgechamber.com/event/gatlinburgs-farmers-market/2025-07-05/
LOCATION:Gatlinburg Farmers Market\, 222 East Parkway\, Gatlinburg\, TN\, 37738\, United States
ATTACH;FMTTYPE=image/jpeg:https://pigeonforgechamber.com/wp-content/uploads/2024/12/june-sevierville-farmers-market.jpg
END:VEVENT
BEGIN:VEVENT
DTSTART;TZID=America/New_York:20250628T083000
DTEND;TZID=America/New_York:20250628T120000
DTSTAMP:20260423T150115
CREATED:20250321T143005Z
LAST-MODIFIED:20250321T143005Z
UID:143732-1751099400-1751112000@pigeonforgechamber.com
SUMMARY:Gatlinburg's Farmers Market
DESCRIPTION:Dive into the local vibe of healthy mountain living at our Farmers Market! Swing by every Saturday from 8:30 a.m. to 12:00 p.m. at 1222 East Parkway\, right across from Food City. From May through October\, meet local producers\, snag fresh produce\, and check out homemade goodies—all in a cozy community atmosphere.
URL:https://pigeonforgechamber.com/event/gatlinburgs-farmers-market/2025-06-28/
LOCATION:Gatlinburg Farmers Market\, 222 East Parkway\, Gatlinburg\, TN\, 37738\, United States
ATTACH;FMTTYPE=image/jpeg:https://pigeonforgechamber.com/wp-content/uploads/2024/12/june-sevierville-farmers-market.jpg
END:VEVENT
BEGIN:VEVENT
DTSTART;TZID=America/New_York:20250621T083000
DTEND;TZID=America/New_York:20250621T120000
DTSTAMP:20260423T150115
CREATED:20250321T143005Z
LAST-MODIFIED:20250321T143005Z
UID:143731-1750494600-1750507200@pigeonforgechamber.com
SUMMARY:Gatlinburg's Farmers Market
DESCRIPTION:Dive into the local vibe of healthy mountain living at our Farmers Market! Swing by every Saturday from 8:30 a.m. to 12:00 p.m. at 1222 East Parkway\, right across from Food City. From May through October\, meet local producers\, snag fresh produce\, and check out homemade goodies—all in a cozy community atmosphere.
URL:https://pigeonforgechamber.com/event/gatlinburgs-farmers-market/2025-06-21/
LOCATION:Gatlinburg Farmers Market\, 222 East Parkway\, Gatlinburg\, TN\, 37738\, United States
ATTACH;FMTTYPE=image/jpeg:https://pigeonforgechamber.com/wp-content/uploads/2024/12/june-sevierville-farmers-market.jpg
END:VEVENT
BEGIN:VEVENT
DTSTART;TZID=America/New_York:20250614T083000
DTEND;TZID=America/New_York:20250614T120000
DTSTAMP:20260423T150115
CREATED:20250321T143005Z
LAST-MODIFIED:20250321T143005Z
UID:143730-1749889800-1749902400@pigeonforgechamber.com
SUMMARY:Gatlinburg's Farmers Market
DESCRIPTION:Dive into the local vibe of healthy mountain living at our Farmers Market! Swing by every Saturday from 8:30 a.m. to 12:00 p.m. at 1222 East Parkway\, right across from Food City. From May through October\, meet local producers\, snag fresh produce\, and check out homemade goodies—all in a cozy community atmosphere.
URL:https://pigeonforgechamber.com/event/gatlinburgs-farmers-market/2025-06-14/
LOCATION:Gatlinburg Farmers Market\, 222 East Parkway\, Gatlinburg\, TN\, 37738\, United States
ATTACH;FMTTYPE=image/jpeg:https://pigeonforgechamber.com/wp-content/uploads/2024/12/june-sevierville-farmers-market.jpg
END:VEVENT
BEGIN:VEVENT
DTSTART;TZID=America/New_York:20250607T083000
DTEND;TZID=America/New_York:20250607T120000
DTSTAMP:20260423T150115
CREATED:20250321T143005Z
LAST-MODIFIED:20250321T143005Z
UID:143729-1749285000-1749297600@pigeonforgechamber.com
SUMMARY:Gatlinburg's Farmers Market
DESCRIPTION:Dive into the local vibe of healthy mountain living at our Farmers Market! Swing by every Saturday from 8:30 a.m. to 12:00 p.m. at 1222 East Parkway\, right across from Food City. From May through October\, meet local producers\, snag fresh produce\, and check out homemade goodies—all in a cozy community atmosphere.
URL:https://pigeonforgechamber.com/event/gatlinburgs-farmers-market/2025-06-07/
LOCATION:Gatlinburg Farmers Market\, 222 East Parkway\, Gatlinburg\, TN\, 37738\, United States
ATTACH;FMTTYPE=image/jpeg:https://pigeonforgechamber.com/wp-content/uploads/2024/12/june-sevierville-farmers-market.jpg
END:VEVENT
BEGIN:VEVENT
DTSTART;TZID=America/New_York:20250531T083000
DTEND;TZID=America/New_York:20250531T120000
DTSTAMP:20260423T150115
CREATED:20250321T143005Z
LAST-MODIFIED:20250321T143005Z
UID:143728-1748680200-1748692800@pigeonforgechamber.com
SUMMARY:Gatlinburg's Farmers Market
DESCRIPTION:Dive into the local vibe of healthy mountain living at our Farmers Market! Swing by every Saturday from 8:30 a.m. to 12:00 p.m. at 1222 East Parkway\, right across from Food City. From May through October\, meet local producers\, snag fresh produce\, and check out homemade goodies—all in a cozy community atmosphere.
URL:https://pigeonforgechamber.com/event/gatlinburgs-farmers-market/2025-05-31/
LOCATION:Gatlinburg Farmers Market\, 222 East Parkway\, Gatlinburg\, TN\, 37738\, United States
ATTACH;FMTTYPE=image/jpeg:https://pigeonforgechamber.com/wp-content/uploads/2024/12/june-sevierville-farmers-market.jpg
END:VEVENT
BEGIN:VEVENT
DTSTART;TZID=America/New_York:20250524T083000
DTEND;TZID=America/New_York:20250524T120000
DTSTAMP:20260423T150115
CREATED:20250321T143005Z
LAST-MODIFIED:20250321T143005Z
UID:143727-1748075400-1748088000@pigeonforgechamber.com
SUMMARY:Gatlinburg's Farmers Market
DESCRIPTION:Dive into the local vibe of healthy mountain living at our Farmers Market! Swing by every Saturday from 8:30 a.m. to 12:00 p.m. at 1222 East Parkway\, right across from Food City. From May through October\, meet local producers\, snag fresh produce\, and check out homemade goodies—all in a cozy community atmosphere.
URL:https://pigeonforgechamber.com/event/gatlinburgs-farmers-market/2025-05-24/
LOCATION:Gatlinburg Farmers Market\, 222 East Parkway\, Gatlinburg\, TN\, 37738\, United States
ATTACH;FMTTYPE=image/jpeg:https://pigeonforgechamber.com/wp-content/uploads/2024/12/june-sevierville-farmers-market.jpg
END:VEVENT
BEGIN:VEVENT
DTSTART;TZID=America/New_York:20250517T083000
DTEND;TZID=America/New_York:20250517T120000
DTSTAMP:20260423T150115
CREATED:20250321T143005Z
LAST-MODIFIED:20250321T143005Z
UID:143725-1747470600-1747483200@pigeonforgechamber.com
SUMMARY:Gatlinburg's Farmers Market
DESCRIPTION:Dive into the local vibe of healthy mountain living at our Farmers Market! Swing by every Saturday from 8:30 a.m. to 12:00 p.m. at 1222 East Parkway\, right across from Food City. From May through October\, meet local producers\, snag fresh produce\, and check out homemade goodies—all in a cozy community atmosphere.
URL:https://pigeonforgechamber.com/event/gatlinburgs-farmers-market/2025-05-17/
LOCATION:Gatlinburg Farmers Market\, 222 East Parkway\, Gatlinburg\, TN\, 37738\, United States
ATTACH;FMTTYPE=image/jpeg:https://pigeonforgechamber.com/wp-content/uploads/2024/12/june-sevierville-farmers-market.jpg
END:VEVENT
END:VCALENDAR