BEGIN:VCALENDAR
VERSION:2.0
PRODID:-//Pigeon Forge Chamber of Commerce - ECPv6.11.2//NONSGML v1.0//EN
CALSCALE:GREGORIAN
METHOD:PUBLISH
X-WR-CALNAME:Pigeon Forge Chamber of Commerce
X-ORIGINAL-URL:https://pigeonforgechamber.com
X-WR-CALDESC:Events for Pigeon Forge Chamber of Commerce
REFRESH-INTERVAL;VALUE=DURATION:PT1H
X-Robots-Tag:noindex
X-PUBLISHED-TTL:PT1H
BEGIN:VTIMEZONE
TZID:America/New_York
BEGIN:DAYLIGHT
TZOFFSETFROM:-0500
TZOFFSETTO:-0400
TZNAME:EDT
DTSTART:20260308T070000
END:DAYLIGHT
BEGIN:STANDARD
TZOFFSETFROM:-0400
TZOFFSETTO:-0500
TZNAME:EST
DTSTART:20261101T060000
END:STANDARD
END:VTIMEZONE
BEGIN:VEVENT
DTSTART;TZID=America/New_York:20260405T063000
DTEND;TZID=America/New_York:20260405T090000
DTSTAMP:20260422T115304
CREATED:20260227T191851Z
LAST-MODIFIED:20260331T140537Z
UID:146218-1775370600-1775379600@pigeonforgechamber.com
SUMMARY:Gatlinburg SkyPark Easter Sunrise Service
DESCRIPTION:Gatlinburg SkyPark Free Easter Sunrise Service\nDate: April 5\, 2026Time: 7:30 AMLocation: Gatlinburg SkyParkAdmission: Free \nCelebrate Easter morning high above the Smoky Mountains at the Gatlinburg SkyPark’s Free Easter Sunrise Service. Guests are invited to experience a breathtaking sunrise from the top of Crockett Mountain\, followed by a brief gospel presentation in a truly unforgettable setting. \nGuests may load the Gatlinburg SkyLift between 6:15 AM and 7:15 AM\, with the service beginning at 7:30 AM. \nSpecial music will be provided by Kelly Shipe on the bagpipes before and after the service\, adding a meaningful and memorable touch to the morning. \nFood will be available for purchase from Smoky Mountain Smash\, offering hot breakfast options such as croissant breakfast sandwiches\, coffee\, orange juice\, and apple juice. Please note that breakfast is not included in the free event. \nFollowing the service\, SkyPark will remain open for attendees to continue enjoying the scenic views and mountaintop experience. \nJoin us for a beautiful Easter morning filled with sunrise views\, uplifting music\, and a message of hope in the heart of the Smokies. \nLearn more – https://www.gatlinburgskypark.com/events/easter-sunrise-service-or-free-easter-service
URL:https://pigeonforgechamber.com/event/gatlinburg-skypark-free-easter-sunrise-service/
LOCATION:Gatlinburg SkyPark\, 765 Parkway\, Gatlinburg\, TN\, 37738\, United States
ATTACH;FMTTYPE=image/avif:https://pigeonforgechamber.com/wp-content/uploads/2026/02/116ddd40be8f702cd0de9b0acf6494a61a70818c-4032x3024-1.avif
END:VEVENT
END:VCALENDAR