BEGIN:VCALENDAR
VERSION:2.0
PRODID:-//Pigeon Forge Chamber of Commerce - ECPv6.11.2//NONSGML v1.0//EN
CALSCALE:GREGORIAN
METHOD:PUBLISH
X-WR-CALNAME:Pigeon Forge Chamber of Commerce
X-ORIGINAL-URL:https://pigeonforgechamber.com
X-WR-CALDESC:Events for Pigeon Forge Chamber of Commerce
REFRESH-INTERVAL;VALUE=DURATION:PT1H
X-Robots-Tag:noindex
X-PUBLISHED-TTL:PT1H
BEGIN:VTIMEZONE
TZID:America/New_York
BEGIN:DAYLIGHT
TZOFFSETFROM:-0500
TZOFFSETTO:-0400
TZNAME:EDT
DTSTART:20260308T070000
END:DAYLIGHT
BEGIN:STANDARD
TZOFFSETFROM:-0400
TZOFFSETTO:-0500
TZNAME:EST
DTSTART:20261101T060000
END:STANDARD
END:VTIMEZONE
BEGIN:VEVENT
DTSTART;TZID=America/New_York:20260405T080000
DTEND;TZID=America/New_York:20260405T120000
DTSTAMP:20260422T100940
CREATED:20260302T161515Z
LAST-MODIFIED:20260302T161515Z
UID:146234-1775376000-1775390400@pigeonforgechamber.com
SUMMARY:Easter Service with Pathways Church
DESCRIPTION:Celebrating 30 Years of Pathways Church\nUnited Worship Service at the LeConte Center | Pigeon Forge\, TN \nJoin us as we celebrate 30 years of Pathways Church with a special United Worship Service at the LeConte Center in Pigeon Forge. This milestone gathering will bring together our church family to reflect on all God has done and look ahead with hope to all He will continue to do. \nWe would be truly honored to have you join us for this meaningful celebration. \nEvent Schedule\n8:00 AM – Coffee & Snacks available for purchase8:00–9:00 AM – K–6th Grade Check-In (Greenbriar Room)9:00 AM – Auditorium Doors Open9:00 AM – Kids’ Egg Hunt (River Trail)10:00 AM – Worship Experience Begins \nWhat to Expect\nParking:Ample parking and shuttle service will be available from: \n\n\nRiver Lot (enter from Teaster Lane) \n\n\nMountain Lot (enter from Jake Thomas Road) \n\n\nBefore-Service Activities:Arrive early to enjoy coffee and snacks (available for purchase)\, family photo booths\, the Easter Egg Hunt for kids at 9:00 AM\, and more. \nWorship Experience:The service begins at 10:00 AM and will include worship\, children singing\, reflections on the past 30 years of Pathways Church\, and a celebration of the resurrection. The service is expected to last approximately 90 minutes. \nFor Kids\nEgg Hunt (All Children):Bring your child’s basket and meet on the river trail at 9:00 AM sharp to collect eggs. \nK–6th Grade:Children in Kindergarten through 6th grade will have their own special service in the Greenbriar Room.Check-in is from 8:00–9:00 AM. Parents will drop off and pick up from this location. \n5 Years Old & Younger:Families are encouraged to enjoy the worship service together. Busy bags will be available for younger children before entering the auditorium\, and quiet areas will be accessible in the corridors if needed. \nLearn more – https://www.pathwayschurch.com/easter-together/
URL:https://pigeonforgechamber.com/event/easter-service-with-pathways-church/
LOCATION:LeConte Center at Pigeon Forge\, 2986 Teaster Lane\, Pigeon Forge\, TN\, 37863\, United States
ATTACH;FMTTYPE=image/jpeg:https://pigeonforgechamber.com/wp-content/uploads/2026/03/641248697_1328477712649487_2885891047902375392_n.jpg
END:VEVENT
END:VCALENDAR