BEGIN:VCALENDAR
VERSION:2.0
PRODID:-//Pigeon Forge Chamber of Commerce - ECPv6.11.2//NONSGML v1.0//EN
CALSCALE:GREGORIAN
METHOD:PUBLISH
X-WR-CALNAME:Pigeon Forge Chamber of Commerce
X-ORIGINAL-URL:https://pigeonforgechamber.com
X-WR-CALDESC:Events for Pigeon Forge Chamber of Commerce
REFRESH-INTERVAL;VALUE=DURATION:PT1H
X-Robots-Tag:noindex
X-PUBLISHED-TTL:PT1H
BEGIN:VTIMEZONE
TZID:America/New_York
BEGIN:DAYLIGHT
TZOFFSETFROM:-0500
TZOFFSETTO:-0400
TZNAME:EDT
DTSTART:20250309T070000
END:DAYLIGHT
BEGIN:STANDARD
TZOFFSETFROM:-0400
TZOFFSETTO:-0500
TZNAME:EST
DTSTART:20251102T060000
END:STANDARD
END:VTIMEZONE
BEGIN:VEVENT
DTSTART;TZID=America/New_York:20250420T110000
DTEND;TZID=America/New_York:20250420T150000
DTSTAMP:20260424T171418
CREATED:20250321T140422Z
LAST-MODIFIED:20250321T142230Z
UID:143723-1745146800-1745161200@pigeonforgechamber.com
SUMMARY:Easter Brunch at Ancient Lore Village
DESCRIPTION:Join us on April 20\, 2025\, at 1:00 PM for an Easter Sunday brunch extravaganza at Ancient Lore Village! Our Pavilion in the Gardens offers a cozy spot to gather with loved ones and enjoy a delightful buffet-style feast. \nFeast on chef-crafted breakfast favorites\, savory meats\, traditional sides\, pastries\, and more amidst the enchanting ambiance of our unique village. Sip on gourmet coffee or treat yourself to a mimosa while soaking in the festive spirit. \nAfter brunch\, don’t miss out on Fairy Tours of the Village for an extra dash of magic! \nNote: Seating requests can be made at the time of reservation\, though we’ll do our best to accommodate your preferences. \nCelebrate Easter in style and make unforgettable memories at Ancient Lore Village!
URL:https://pigeonforgechamber.com/event/easter-brunch-at-ancient-lore-village/
LOCATION:Ancient Lore Village\, United States
ATTACH;FMTTYPE=image/png:https://pigeonforgechamber.com/wp-content/uploads/2024/12/Ancient-Lore-Village-Event-Pic-e1662657604148.png
END:VEVENT
END:VCALENDAR