BEGIN:VCALENDAR
VERSION:2.0
PRODID:-//Pigeon Forge Chamber of Commerce - ECPv6.11.2//NONSGML v1.0//EN
CALSCALE:GREGORIAN
METHOD:PUBLISH
X-WR-CALNAME:Pigeon Forge Chamber of Commerce
X-ORIGINAL-URL:https://pigeonforgechamber.com
X-WR-CALDESC:Events for Pigeon Forge Chamber of Commerce
REFRESH-INTERVAL;VALUE=DURATION:PT1H
X-Robots-Tag:noindex
X-PUBLISHED-TTL:PT1H
BEGIN:VTIMEZONE
TZID:America/New_York
BEGIN:DAYLIGHT
TZOFFSETFROM:-0500
TZOFFSETTO:-0400
TZNAME:EDT
DTSTART:20220313T070000
END:DAYLIGHT
BEGIN:STANDARD
TZOFFSETFROM:-0400
TZOFFSETTO:-0500
TZNAME:EST
DTSTART:20221106T060000
END:STANDARD
END:VTIMEZONE
BEGIN:VEVENT
DTSTART;TZID=America/New_York:20220701T000000
DTEND;TZID=America/New_York:20220731T000000
DTSTAMP:20260424T211440
CREATED:20220316T012538Z
LAST-MODIFIED:20250103T194210Z
UID:142001-1656633600-1659225600@pigeonforgechamber.com
SUMMARY:Dollywood's Sweet Summer Celebration
DESCRIPTION:Sun-kissed days in the Smoky Mountains mean celebrating family fun at a place everyone can enjoy! With extended hours\, there’s a full day ahead\, including exhilarating rides on world-class coasters\, show stopping live entertainment\, plus nightly fireworks and drone spectacular.
URL:https://pigeonforgechamber.com/event/dollywoods-sweet-summer-celebration-2022-july/
LOCATION:Dollywood\, 2700 Dollywood Parks Blvd\, Pigeon Forge\, TN\, 37863\, United States
CATEGORIES:General
ATTACH;FMTTYPE=image/jpeg:https://pigeonforgechamber.com/wp-content/uploads/2024/12/Dollywood-Summer-pic.jpg
END:VEVENT
END:VCALENDAR