BEGIN:VCALENDAR
VERSION:2.0
PRODID:-//Pigeon Forge Chamber of Commerce - ECPv6.11.2//NONSGML v1.0//EN
CALSCALE:GREGORIAN
METHOD:PUBLISH
X-WR-CALNAME:Pigeon Forge Chamber of Commerce
X-ORIGINAL-URL:https://pigeonforgechamber.com
X-WR-CALDESC:Events for Pigeon Forge Chamber of Commerce
REFRESH-INTERVAL;VALUE=DURATION:PT1H
X-Robots-Tag:noindex
X-PUBLISHED-TTL:PT1H
BEGIN:VTIMEZONE
TZID:America/New_York
BEGIN:DAYLIGHT
TZOFFSETFROM:-0500
TZOFFSETTO:-0400
TZNAME:EDT
DTSTART:20210314T070000
END:DAYLIGHT
BEGIN:STANDARD
TZOFFSETFROM:-0400
TZOFFSETTO:-0500
TZNAME:EST
DTSTART:20211107T060000
END:STANDARD
END:VTIMEZONE
BEGIN:VEVENT
DTSTART;TZID=America/New_York:20210625T000000
DTEND;TZID=America/New_York:20210630T000000
DTSTAMP:20260425T121513
CREATED:20210217T002735Z
LAST-MODIFIED:20250103T194346Z
UID:142263-1624579200-1625011200@pigeonforgechamber.com
SUMMARY:Dollywood's Summer Celebration
DESCRIPTION:Dollywood’s Summer Celebration is just that—a time to celebrate making memories with family at a place everyone enjoys! Enjoy special summer entertainment and extended park hours so you can have more time to experience your favorite attractions.
URL:https://pigeonforgechamber.com/event/dollywoods-summer-celebration-june-2021/
LOCATION:Dollywood\, 2700 Dollywood Parks Blvd\, Pigeon Forge\, TN\, 37863\, United States
CATEGORIES:General
ATTACH;FMTTYPE=image/jpeg:https://pigeonforgechamber.com/wp-content/uploads/2024/12/Dollywood-ride-1.jpg
END:VEVENT
END:VCALENDAR