BEGIN:VCALENDAR
VERSION:2.0
PRODID:-//Pigeon Forge Chamber of Commerce - ECPv6.11.2//NONSGML v1.0//EN
CALSCALE:GREGORIAN
METHOD:PUBLISH
X-WR-CALNAME:Pigeon Forge Chamber of Commerce
X-ORIGINAL-URL:https://pigeonforgechamber.com
X-WR-CALDESC:Events for Pigeon Forge Chamber of Commerce
REFRESH-INTERVAL;VALUE=DURATION:PT1H
X-Robots-Tag:noindex
X-PUBLISHED-TTL:PT1H
BEGIN:VTIMEZONE
TZID:America/New_York
BEGIN:DAYLIGHT
TZOFFSETFROM:-0500
TZOFFSETTO:-0400
TZNAME:EDT
DTSTART:20250309T070000
END:DAYLIGHT
BEGIN:STANDARD
TZOFFSETFROM:-0400
TZOFFSETTO:-0500
TZNAME:EST
DTSTART:20251102T060000
END:STANDARD
END:VTIMEZONE
BEGIN:VEVENT
DTSTART;VALUE=DATE:20250314
DTEND;VALUE=DATE:20250401
DTSTAMP:20260424T221646
CREATED:20250211T191453Z
LAST-MODIFIED:20250227T175221Z
UID:143457-1741910400-1743465599@pigeonforgechamber.com
SUMMARY:Dollywood's I Will Always Love You Celebration
DESCRIPTION:Spring comes alive at Dollywood with a spectacular celebration of music\, art\, and flavor! The I Will Always Love You Music Festival fills the Smoky Mountains with unforgettable melodies\, dazzling performances\, and larger-than-life experiences. \nFeel the energy as live music pours from every outdoor stage—clap\, dance\, and sing along! Explore interactive art installations\, including the breathtaking Celebration Sky\, and dive into special productions honoring the art of songwriting. \nAnd don’t forget the food! With a Tasting Pass\, you can savor a variety of mouthwatering festival dishes while soaking in the sights and sounds of spring. \nFrom toe-tapping tunes to picture-perfect moments\, Dollywood is the place to be this spring!
URL:https://pigeonforgechamber.com/event/dollywoods-i-will-always-love-you-celebration/
LOCATION:Dollywood\, 2700 Dollywood Parks Blvd\, Pigeon Forge\, TN\, 37863\, United States
ATTACH;FMTTYPE=image/jpeg:https://pigeonforgechamber.com/wp-content/uploads/2025/02/Dollywood-Pic-from-Kaitlyn-3.jpg
END:VEVENT
END:VCALENDAR