BEGIN:VCALENDAR
VERSION:2.0
PRODID:-//Pigeon Forge Chamber of Commerce - ECPv6.11.2//NONSGML v1.0//EN
CALSCALE:GREGORIAN
METHOD:PUBLISH
X-WR-CALNAME:Pigeon Forge Chamber of Commerce
X-ORIGINAL-URL:https://pigeonforgechamber.com
X-WR-CALDESC:Events for Pigeon Forge Chamber of Commerce
REFRESH-INTERVAL;VALUE=DURATION:PT1H
X-Robots-Tag:noindex
X-PUBLISHED-TTL:PT1H
BEGIN:VTIMEZONE
TZID:America/New_York
BEGIN:DAYLIGHT
TZOFFSETFROM:-0500
TZOFFSETTO:-0400
TZNAME:EDT
DTSTART:20250309T070000
END:DAYLIGHT
BEGIN:STANDARD
TZOFFSETFROM:-0400
TZOFFSETTO:-0500
TZNAME:EST
DTSTART:20251102T060000
END:STANDARD
END:VTIMEZONE
BEGIN:VEVENT
DTSTART;VALUE=DATE:20250418
DTEND;VALUE=DATE:20250501
DTSTAMP:20260424T122516
CREATED:20250211T195346Z
LAST-MODIFIED:20250227T174912Z
UID:143485-1744934400-1746057599@pigeonforgechamber.com
SUMMARY:Dollywood's Flower & Food Festival
DESCRIPTION:Experience the splendor of springtime in the Smokies. Blooming to life in spectacular color\, Dollywood’s Flower & Food Festival celebrates the beautiful blossoms and fresh flavors of the season with larger-than-life Mosaicultures\, unique foods\, and stage shows! Capture picture-perfect moments under our signature Umbrella Sky and hear inspiring sounds of springtime as live music fills the air. Celebrate spring with all your senses.
URL:https://pigeonforgechamber.com/event/dollywoods-flower-food-festival-2/
LOCATION:Dollywood\, 2700 Dollywood Parks Blvd\, Pigeon Forge\, TN\, 37863\, United States
CATEGORIES:Seasonal and Holiday Events
ATTACH;FMTTYPE=image/jpeg:https://pigeonforgechamber.com/wp-content/uploads/2025/02/Dollywood-Pic-From-Kaitlyn-2.jpg
END:VEVENT
END:VCALENDAR