BEGIN:VCALENDAR
VERSION:2.0
PRODID:-//Pigeon Forge Chamber of Commerce - ECPv6.11.2//NONSGML v1.0//EN
CALSCALE:GREGORIAN
METHOD:PUBLISH
X-WR-CALNAME:Pigeon Forge Chamber of Commerce
X-ORIGINAL-URL:https://pigeonforgechamber.com
X-WR-CALDESC:Events for Pigeon Forge Chamber of Commerce
REFRESH-INTERVAL;VALUE=DURATION:PT1H
X-Robots-Tag:noindex
X-PUBLISHED-TTL:PT1H
BEGIN:VTIMEZONE
TZID:America/New_York
BEGIN:DAYLIGHT
TZOFFSETFROM:-0500
TZOFFSETTO:-0400
TZNAME:EDT
DTSTART:20260308T070000
END:DAYLIGHT
BEGIN:STANDARD
TZOFFSETFROM:-0400
TZOFFSETTO:-0500
TZNAME:EST
DTSTART:20261101T060000
END:STANDARD
END:VTIMEZONE
BEGIN:VEVENT
DTSTART;VALUE=DATE:20260319
DTEND;VALUE=DATE:20260322
DTSTAMP:20260425T123527
CREATED:20260202T161120Z
LAST-MODIFIED:20260202T161120Z
UID:146056-1773878400-1774137599@pigeonforgechamber.com
SUMMARY:Corvette Expo – Chevys in the Smokies
DESCRIPTION:Corvette Expo – Chevys in the Smokies\nMarch 19–21\, 2026Location: The LeConte Center\, 2986 Teaster Lane\, Pigeon Forge\, TN 37863 \nCar enthusiasts\, mark your calendars! The Corvette Expo – Chevys in the Smokies is returning to Pigeon Forge for an incredible three-day celebration of classic and modern Chevys. Whether you’re a collector\, a casual fan\, or just love automotive craftsmanship\, this event is packed with show cars\, competitions\, and activities for all ages. \nEvent Highlights\n\n\nInside Show Car Entries: All show cars must arrive on Tuesday\, March 17 (2–6 PM) or Wednesday\, March 18 (8 AM–6 PM). Cars arriving after Wednesday will be placed in the Outdoor Park N Show. \n\n\nFeatured Club: Hub City Corvette Club entrants will receive 2 all-access lanyards in lieu of tickets. \n\n\nShow Awards: Judging will take place Thursday–Saturday morning\, with awards presented at 5 PM on Saturday. \n\n\nRules & Requirements for Show Cars\n\n\nCars must be show-quality\, cleaned\, and ready to display. \n\n\nFuel tanks must be 1/4 full or less\, closed\, and sealed. Batteries must be disconnected unless you bring a wrench. \n\n\nAll vehicles must have a drip board under the car (provided) and tires protected with cardboard or personal flooring. \n\n\nCars must remain unlocked for judging and uncovered during public show hours (Thursday–Saturday\, 9 AM–5 PM). \n\n\nVehicles may not be started\, fueled\, or moved during the event. \n\n\nNo for-sale signs\, tape\, silicone\, smoking\, outside food or drink\, animals\, or scooters are allowed inside the LeConte Center. \n\n\nAdditional Info\n\n\nDash plaques and 2 event tickets will be provided to inside show car entrants upon arrival. \n\n\nPlease help us maintain the new LeConte Center by following all rules and regulations during the event. \n\n\nThis is the perfect opportunity to see some of the finest Chevys in the region while enjoying a premier Pigeon Forge venue just off the Parkway. \nLearn more – https://chevysinthesmokies.com/
URL:https://pigeonforgechamber.com/event/corvette-expo-chevys-in-the-smokies-2/
LOCATION:LeConte Center at Pigeon Forge\, 2986 Teaster Lane\, Pigeon Forge\, TN\, 37863\, United States
ATTACH;FMTTYPE=image/png:https://pigeonforgechamber.com/wp-content/uploads/2026/02/Screenshot-2026-02-02-at-11.12.16-AM.png
END:VEVENT
END:VCALENDAR