BEGIN:VCALENDAR
VERSION:2.0
PRODID:-//Pigeon Forge Chamber of Commerce - ECPv6.11.2//NONSGML v1.0//EN
CALSCALE:GREGORIAN
METHOD:PUBLISH
X-WR-CALNAME:Pigeon Forge Chamber of Commerce
X-ORIGINAL-URL:https://pigeonforgechamber.com
X-WR-CALDESC:Events for Pigeon Forge Chamber of Commerce
REFRESH-INTERVAL;VALUE=DURATION:PT1H
X-Robots-Tag:noindex
X-PUBLISHED-TTL:PT1H
BEGIN:VTIMEZONE
TZID:America/New_York
BEGIN:DAYLIGHT
TZOFFSETFROM:-0500
TZOFFSETTO:-0400
TZNAME:EDT
DTSTART:20240310T070000
END:DAYLIGHT
BEGIN:STANDARD
TZOFFSETFROM:-0400
TZOFFSETTO:-0500
TZNAME:EST
DTSTART:20241103T060000
END:STANDARD
END:VTIMEZONE
BEGIN:VEVENT
DTSTART;TZID=America/New_York:20241026T000000
DTEND;TZID=America/New_York:20241026T000000
DTSTAMP:20260423T081936
CREATED:20240301T020243Z
LAST-MODIFIED:20250103T193018Z
UID:140898-1729900800-1729900800@pigeonforgechamber.com
SUMMARY:City of Pigeon Forge Halloween Spooktacular & Safety Day
DESCRIPTION:Get ready for a spooktacular time at the Pigeon Forge Community Center’s annual Halloween extravaganza! Each year\, families flock to this safe and non-scary event\, held the weekend before Halloween\, for an unforgettable trick-or-treating experience. \nJoin us at the Pigeon Forge Community Center\, where local businesses set up shop to offer sweet treats for the little ones. But that’s not all – get ready to be dazzled by creative displays and interactive attractions that will delight both kids and adults alike! \nBut wait\, there’s more! In addition to the candy-filled fun\, prepare to be entertained with thrilling performances and a bone-chilling haunted house experience that will send shivers down your spine. \nBest of all\, this event is completely free and has become a beloved tradition within the Pigeon Forge Community. Don’t miss out on the excitement – come join us for a frightfully fun celebration that the whole family will cherish!
URL:https://pigeonforgechamber.com/event/city-of-pigeon-forge-halloween-spooktacular-safety-day-10-26-2024/
LOCATION:Pigeon Forge Community Center\, United States
CATEGORIES:General
ATTACH;FMTTYPE=image/jpeg:https://pigeonforgechamber.com/wp-content/uploads/2024/12/trick-or-treating-e1647455711383.jpg
END:VEVENT
END:VCALENDAR