BEGIN:VCALENDAR
VERSION:2.0
PRODID:-//Pigeon Forge Chamber of Commerce - ECPv6.11.2//NONSGML v1.0//EN
CALSCALE:GREGORIAN
METHOD:PUBLISH
X-WR-CALNAME:Pigeon Forge Chamber of Commerce
X-ORIGINAL-URL:https://pigeonforgechamber.com
X-WR-CALDESC:Events for Pigeon Forge Chamber of Commerce
REFRESH-INTERVAL;VALUE=DURATION:PT1H
X-Robots-Tag:noindex
X-PUBLISHED-TTL:PT1H
BEGIN:VTIMEZONE
TZID:America/New_York
BEGIN:DAYLIGHT
TZOFFSETFROM:-0500
TZOFFSETTO:-0400
TZNAME:EDT
DTSTART:20210314T070000
END:DAYLIGHT
BEGIN:STANDARD
TZOFFSETFROM:-0400
TZOFFSETTO:-0500
TZNAME:EST
DTSTART:20211107T060000
END:STANDARD
END:VTIMEZONE
BEGIN:VEVENT
DTSTART;TZID=America/New_York:20210210T000000
DTEND;TZID=America/New_York:20210210T000000
DTSTAMP:20260423T064342
CREATED:20210128T202911Z
LAST-MODIFIED:20250103T194407Z
UID:142319-1612915200-1612915200@pigeonforgechamber.com
SUMMARY:Brushes & Brew Valentine Painting Classes
DESCRIPTION:This beautiful mountain heart design can be done as DOUBLES or as a SINGLE painting!\nPerfect for couples\, best friends\, roommates\, parent and child\, you name it!\nIf you are in LOVE with this painting and want it all to yourself that is no problem! You get to create it on a single canvas.\nDate: Wednesday February 10th \nAfternoon Class 1:00 pm \nEvening Class 6:00 pm \nPrice: $30 Per SINGLE\n$45 Per DOUBLE Total (Buy 1 at $30\, get second for $15)\nTime: 2 Hours + \nPlease CALL during office hours to reserve your seat!\nOr private message us on Facebook.\nFirst come first serve.\n865-366-6383
URL:https://pigeonforgechamber.com/event/brushes-brew-valentine-painting-classes-feb-10/
CATEGORIES:General
ATTACH;FMTTYPE=image/jpeg:https://pigeonforgechamber.com/wp-content/uploads/2024/12/Heart-Mountain-painting.jpg
END:VEVENT
END:VCALENDAR