BEGIN:VCALENDAR
VERSION:2.0
PRODID:-//Pigeon Forge Chamber of Commerce - ECPv6.11.2//NONSGML v1.0//EN
CALSCALE:GREGORIAN
METHOD:PUBLISH
X-WR-CALNAME:Pigeon Forge Chamber of Commerce
X-ORIGINAL-URL:https://pigeonforgechamber.com
X-WR-CALDESC:Events for Pigeon Forge Chamber of Commerce
REFRESH-INTERVAL;VALUE=DURATION:PT1H
X-Robots-Tag:noindex
X-PUBLISHED-TTL:PT1H
BEGIN:VTIMEZONE
TZID:America/New_York
BEGIN:DAYLIGHT
TZOFFSETFROM:-0500
TZOFFSETTO:-0400
TZNAME:EDT
DTSTART:20250309T070000
END:DAYLIGHT
BEGIN:STANDARD
TZOFFSETFROM:-0400
TZOFFSETTO:-0500
TZNAME:EST
DTSTART:20251102T060000
END:STANDARD
END:VTIMEZONE
BEGIN:VEVENT
DTSTART;TZID=America/New_York:20250516T130000
DTEND;TZID=America/New_York:20250516T150000
DTSTAMP:20260423T143902
CREATED:20250317T152222Z
LAST-MODIFIED:20250317T152222Z
UID:143703-1747400400-1747407600@pigeonforgechamber.com
SUMMARY:Book Signing Addison Crissone at MoonPie General Store
DESCRIPTION:Meet Addison Crissone at a Powerful Book Signing Event! \nJoin us on May 16th from 1PM to 3PM for an unforgettable afternoon with author Addison Crissone as she presents The Yellow Badge—a gripping tale of persistence and courage in the face of unimaginable persecution. Set in war-torn Belgium in 1942\, this compelling story brings to life the darkness of that era\, drawing striking parallels to the challenges we face today. Don’t miss the chance to meet Addison\, hear the inspiration behind her novel\, and get your copy signed. An event not to be missed!
URL:https://pigeonforgechamber.com/event/book-signing-addison-crissone-at-moonpie-general-store/
LOCATION:MoonPie General Store\, 3127 Parkway\, Pigeon Forge\, TN\, 37863\, United States
ATTACH;FMTTYPE=image/jpeg:https://pigeonforgechamber.com/wp-content/uploads/2025/03/addison-crissone-scaled-1.jpg
END:VEVENT
END:VCALENDAR