BEGIN:VCALENDAR
VERSION:2.0
PRODID:-//Pigeon Forge Chamber of Commerce - ECPv6.11.2//NONSGML v1.0//EN
CALSCALE:GREGORIAN
METHOD:PUBLISH
X-WR-CALNAME:Pigeon Forge Chamber of Commerce
X-ORIGINAL-URL:https://pigeonforgechamber.com
X-WR-CALDESC:Events for Pigeon Forge Chamber of Commerce
REFRESH-INTERVAL;VALUE=DURATION:PT1H
X-Robots-Tag:noindex
X-PUBLISHED-TTL:PT1H
BEGIN:VTIMEZONE
TZID:America/New_York
BEGIN:DAYLIGHT
TZOFFSETFROM:-0500
TZOFFSETTO:-0400
TZNAME:EDT
DTSTART:20250309T070000
END:DAYLIGHT
BEGIN:STANDARD
TZOFFSETFROM:-0400
TZOFFSETTO:-0500
TZNAME:EST
DTSTART:20251102T060000
END:STANDARD
END:VTIMEZONE
BEGIN:VEVENT
DTSTART;TZID=America/New_York:20250926T200000
DTEND;TZID=America/New_York:20250926T220000
DTSTAMP:20260422T044521
CREATED:20250730T152007Z
LAST-MODIFIED:20250730T152007Z
UID:144311-1758916800-1758924000@pigeonforgechamber.com
SUMMARY:An Evening with the Oak Ridge Boys
DESCRIPTION:The Oak Ridge Boys Live in Concert \nExperience one of country music’s most legendary acts—The Oak Ridge Boys—live on stage in Pigeon Forge at Country Tonite! \nKnown for their unmistakable four-part harmonies and timeless hits\, The Oak Ridge Boys have captivated fans for more than 50 years. With a career that includes Grammy\, Dove\, CMA\, and ACM Awards\, this iconic group brings energy\, passion\, and decades of chart-topping singles to every performance. \nDon’t miss your chance to hear crowd favorites like “Elvira\,” “American Made\,” “Bobbie Sue\,” “Dream On\,” and “Thank God for Kids” performed live in an unforgettable evening of music and nostalgia. \nWhether you’re a lifelong fan or new to their legendary sound\, this is a show that country music lovers won’t want to miss! \n🎶 Event Highlights: \n\n\n50+ years of country music tradition \n\n\nAward-winning vocal harmonies \n\n\nIconic hits performed live \n\n\nFamily-friendly atmosphere \n\n\nJoin us for an unforgettable night with The Oak Ridge Boys\, a true staple of American music history. \nLearn more – https://www.countrytonitepf.com/celebrity-shows/
URL:https://pigeonforgechamber.com/event/an-evening-with-the-oak-ridge-boys/
LOCATION:Country Tonite Theater\, 129 Showplace Blvd\, Pigeon Forge\, TN\, 37863\, United States
ATTACH;FMTTYPE=image/jpeg:https://pigeonforgechamber.com/wp-content/uploads/2024/12/Oak-Ridge-Boys-1.jpg
END:VEVENT
END:VCALENDAR