BEGIN:VCALENDAR
VERSION:2.0
PRODID:-//Pigeon Forge Chamber of Commerce - ECPv6.11.2//NONSGML v1.0//EN
CALSCALE:GREGORIAN
METHOD:PUBLISH
X-WR-CALNAME:Pigeon Forge Chamber of Commerce
X-ORIGINAL-URL:https://pigeonforgechamber.com
X-WR-CALDESC:Events for Pigeon Forge Chamber of Commerce
REFRESH-INTERVAL;VALUE=DURATION:PT1H
X-Robots-Tag:noindex
X-PUBLISHED-TTL:PT1H
BEGIN:VTIMEZONE
TZID:America/New_York
BEGIN:DAYLIGHT
TZOFFSETFROM:-0500
TZOFFSETTO:-0400
TZNAME:EDT
DTSTART:20250309T070000
END:DAYLIGHT
BEGIN:STANDARD
TZOFFSETFROM:-0400
TZOFFSETTO:-0500
TZNAME:EST
DTSTART:20251102T060000
END:STANDARD
END:VTIMEZONE
BEGIN:VEVENT
DTSTART;TZID=America/New_York:20251217T180000
DTEND;TZID=America/New_York:20251217T200000
DTSTAMP:20260423T064436
CREATED:20251125T142630Z
LAST-MODIFIED:20251125T142630Z
UID:145539-1765994400-1766001600@pigeonforgechamber.com
SUMMARY:A Grinchy Christmas at Ancient Lore Village
DESCRIPTION:Step into a storybook world this holiday season as Ancient Lore Village transforms into Whoville for a magical outdoor movie night! Gather your family and friends for an evening filled with laughter\, festive cheer\, and a playful touch of Grinchy mischief. This is perfect for anyone looking for holiday fun in Knoxville. \nFrom the moment you arrive\, the Village comes alive with colorful lights\, whimsical décor\, and cheerful Villagers greeting you with carols and your own Whoville Passport to collect stamps throughout the night. Before the movie begins\, enjoy a variety of themed activities: \nWhoville Activities: \n\n\nCookie Decorating Station – Frost\, sprinkle\, and create your own Whoville-inspired treat \n\n\nGrinchy Green Hot Cocoa Bar – Topped with whipped cream\, candy canes\, and festive sprinkles \n\n\nMeet & Greet with the Grinch – Expect mischief\, candy cane “thievery\,” and lots of photos \n\n\nWhen it’s time for the movie\, cozy up under the pavilion’s fairy lights in the Village Gardens. Heaters will be running\, but blankets are encouraged for extra comfort. Each guest will receive a Grinch Snack Pack with popcorn and candy canes. Seating is arranged at tables of 10\, with chairs that can be turned toward the oversized screen. \nMenu\nAppetizers: \n\n\nKids: Fruit Kabobs \n\n\nAdults: Stuffed Mushrooms \n\n\nMain Course: \n\n\nChicken Alfredo Pasta with Vegetables \n\n\nDesserts: \n\n\nChocolate Mousse Cups topped with a Strawberry \n\n\nSugar Cookies for Decorating \n\n\nWhimsy\, warmth\, and a little holiday mischief await at this one-of-a-kind Christmas celebration. \nTickets are limited! Reserve your spot in Whoville today! https://www.ancientlorevillage.com/events/a-grinchy-christmas-at-the-village-3/?occurrence=2025-12-17
URL:https://pigeonforgechamber.com/event/a-grinchy-christmas-at-ancient-lore-village/
LOCATION:Ancient Lore Village\, United States
ATTACH;FMTTYPE=image/jpeg:https://pigeonforgechamber.com/wp-content/uploads/2025/11/a-grinchy-christmas-at-the-village-1.jpg
END:VEVENT
END:VCALENDAR