BEGIN:VCALENDAR
VERSION:2.0
PRODID:-//Pigeon Forge Chamber of Commerce - ECPv6.11.2//NONSGML v1.0//EN
CALSCALE:GREGORIAN
METHOD:PUBLISH
X-WR-CALNAME:Pigeon Forge Chamber of Commerce
X-ORIGINAL-URL:https://pigeonforgechamber.com
X-WR-CALDESC:Events for Pigeon Forge Chamber of Commerce
REFRESH-INTERVAL;VALUE=DURATION:PT1H
X-Robots-Tag:noindex
X-PUBLISHED-TTL:PT1H
BEGIN:VTIMEZONE
TZID:America/New_York
BEGIN:DAYLIGHT
TZOFFSETFROM:-0500
TZOFFSETTO:-0400
TZNAME:EDT
DTSTART:20260308T070000
END:DAYLIGHT
BEGIN:STANDARD
TZOFFSETFROM:-0400
TZOFFSETTO:-0500
TZNAME:EST
DTSTART:20261101T060000
END:STANDARD
END:VTIMEZONE
BEGIN:VEVENT
DTSTART;VALUE=DATE:20260516
DTEND;VALUE=DATE:20260518
DTSTAMP:20260425T214727
CREATED:20260407T171602Z
LAST-MODIFIED:20260407T171602Z
UID:146576-1778889600-1779062399@pigeonforgechamber.com
SUMMARY:44th Annual Smoky Mountain Scottish Festival and Games
DESCRIPTION:Scotland in the Smokies is calling! Celebrate the rich traditions of Scottish\, Irish\, and Celtic culture at the 44th Annual Smoky Mountain Scottish Festival and Games\, Tennessee’s oldest festival of its kind. \nSet in the scenic foothills of Townsend\, this beloved event brings a full weekend of music\, heritage\, and family-friendly fun just outside the Great Smoky Mountains National Park. \nEvent Highlights: \n\nLive music featuring folk\, roots\, rock\, and pop performances\nHighland athletics competitions\nTraditional pipes & drums\nHighland and Irish dance performances\nWhisky tastings and a variety of beer selections\nVendors offering Scottish\, Irish\, and British goods\nAuthentic food from the Celtic homelands\n\nWhether you’re tracing your heritage or simply looking for a unique cultural experience\, the Smoky Mountain Scottish Festival and Games offers something for everyone. \nCome enjoy a lively celebration of tradition\, music\, and community in the heart of the Smokies! \nLearn More – https://www.smokymountaingames.org/
URL:https://pigeonforgechamber.com/event/44th-annual-smoky-mountain-scottish-festival-and-games/
LOCATION:Townsend Visitor Center\, Townsend\, United States
ATTACH;FMTTYPE=image/png:https://pigeonforgechamber.com/wp-content/uploads/2026/04/Screenshot-2026-04-07-at-1.17.01-PM.png
END:VEVENT
END:VCALENDAR