BEGIN:VCALENDAR
VERSION:2.0
PRODID:-//Pigeon Forge Chamber of Commerce - ECPv6.11.2//NONSGML v1.0//EN
CALSCALE:GREGORIAN
METHOD:PUBLISH
X-WR-CALNAME:Pigeon Forge Chamber of Commerce
X-ORIGINAL-URL:https://pigeonforgechamber.com
X-WR-CALDESC:Events for Pigeon Forge Chamber of Commerce
REFRESH-INTERVAL;VALUE=DURATION:PT1H
X-Robots-Tag:noindex
X-PUBLISHED-TTL:PT1H
BEGIN:VTIMEZONE
TZID:America/New_York
BEGIN:DAYLIGHT
TZOFFSETFROM:-0500
TZOFFSETTO:-0400
TZNAME:EDT
DTSTART:20260308T070000
END:DAYLIGHT
BEGIN:STANDARD
TZOFFSETFROM:-0400
TZOFFSETTO:-0500
TZNAME:EST
DTSTART:20261101T060000
END:STANDARD
END:VTIMEZONE
BEGIN:VEVENT
DTSTART;VALUE=DATE:20260323
DTEND;VALUE=DATE:20260330
DTSTAMP:20260420T101722
CREATED:20260202T150033Z
LAST-MODIFIED:20260202T150033Z
UID:146053-1774224000-1774828799@pigeonforgechamber.com
SUMMARY:2026 Country Music Week
DESCRIPTION:2026 Country Music Week\nHosted by North American Country Music Association International (NACMAI) \nCountry Music Week returns in 2026\, bringing together independent country music artists\, songwriters\, industry professionals\, and fans for an exciting week dedicated to celebrating country music and its future. \nHosted by the North American Country Music Association International (NACMAI)\, this multi-day event features a full schedule of live performances\, showcases\, networking opportunities\, educational sessions\, and special events designed to support and spotlight emerging and established talent from across the country. \nThroughout the week\, attendees can enjoy a variety of concerts\, artist showcases\, and industry-focused programming while connecting with fellow musicians\, producers\, and music lovers. Country Music Week culminates in the NACMAI Awards\, honoring outstanding independent artists and industry contributors. \nWhether you’re an artist looking to grow your career or a fan eager to experience nonstop country music\, Country Music Week 2026 offers an unforgettable celebration of talent\, community\, and the spirit of country music. \nLearn more – https://nacmai.org/2026-competition-info
URL:https://pigeonforgechamber.com/event/2026-country-music-week/
LOCATION:Grand Smokies Resort Lodge\, 2385 Parkway\, Pigeon Forge\, TN\, 37863\, United States
ATTACH;FMTTYPE=image/webp:https://pigeonforgechamber.com/wp-content/uploads/2026/02/rsw_1240cg_true.webp
END:VEVENT
END:VCALENDAR